BEGIN:VCALENDAR
VERSION:2.0
PRODID:-//Gratis Uppsala - ECPv5.2.1//NONSGML v1.0//EN
CALSCALE:GREGORIAN
METHOD:PUBLISH
X-WR-CALNAME:Gratis Uppsala
X-ORIGINAL-URL:https://arkiv.gratisuppsala.se
X-WR-CALDESC:Händelser för Gratis Uppsala
BEGIN:VTIMEZONE
TZID:Europe/Stockholm
BEGIN:DAYLIGHT
TZOFFSETFROM:+0100
TZOFFSETTO:+0200
TZNAME:CEST
DTSTART:20170326T010000
END:DAYLIGHT
BEGIN:STANDARD
TZOFFSETFROM:+0200
TZOFFSETTO:+0100
TZNAME:CET
DTSTART:20171029T010000
END:STANDARD
END:VTIMEZONE
BEGIN:VEVENT
DTSTART;TZID=Europe/Stockholm:20170913T190000
DTEND;TZID=Europe/Stockholm:20170913T200000
DTSTAMP:20260423T230214
CREATED:20170912T075406Z
LAST-MODIFIED:20170913T093913Z
UID:18018-1505329200-1505332800@arkiv.gratisuppsala.se
SUMMARY:Konstvandring i Uppsala: Oväntade konstmöten
DESCRIPTION:Följ med på en guidad konstvandring i Uppsala till oväntad offentlig konst!\nKonstvandring till oväntad konst som finns mitt i gatan eller i parkens grönska. Arrangör är Uppsala kommuns kulturförvaltning. Tuva-Li Peter Lidé\, kommunens intendent för offentlig konst\, guidar er en timme genom konstverk i staden. Samling klockan 18.00 på Fyristorg. Uppsala kommun hälsar alla intresserade välkomna! \nLäs mer om denna och kommande konstvandringar på Uppsala kommuns webbplats. \nBilden: Vem bor här? Konstverk i Botaniska trädgården av Ulla Fries.\nFoto: QImage \n  \nDela evenemanget
URL:https://arkiv.gratisuppsala.se/event/konstvandring-ovantade-konstmoten/
LOCATION:Fyristorg\, Fyristorg\, Uppsala\, 75310\, Sverige
CATEGORIES:Konst, Fotografi och Design,Vandring,Vuxen
ATTACH;FMTTYPE=image/jpeg:https://arkiv.gratisuppsala.se/wp-content/uploads/2017/09/Konstverk_Ulla_Fries_foto_QImage-e1505299134812.jpg
ORGANIZER;CN="Uppsala%20kommun":MAILTO:uppsala.kommun@uppsala.se
GEO:59.8581881;17.6361416
X-APPLE-STRUCTURED-LOCATION;VALUE=URI;X-ADDRESS=Fyristorg Fyristorg Uppsala 75310 Sverige;X-APPLE-RADIUS=500;X-TITLE=Fyristorg:geo:17.6361416,59.8581881
END:VEVENT
END:VCALENDAR