BEGIN:VCALENDAR
VERSION:2.0
PRODID:-//Gratis Uppsala - ECPv5.2.1//NONSGML v1.0//EN
CALSCALE:GREGORIAN
METHOD:PUBLISH
X-WR-CALNAME:Gratis Uppsala
X-ORIGINAL-URL:https://arkiv.gratisuppsala.se
X-WR-CALDESC:Händelser för Gratis Uppsala
BEGIN:VTIMEZONE
TZID:Europe/Stockholm
BEGIN:DAYLIGHT
TZOFFSETFROM:+0100
TZOFFSETTO:+0200
TZNAME:CEST
DTSTART:20160327T010000
END:DAYLIGHT
BEGIN:STANDARD
TZOFFSETFROM:+0200
TZOFFSETTO:+0100
TZNAME:CET
DTSTART:20161030T010000
END:STANDARD
END:VTIMEZONE
BEGIN:VEVENT
DTSTART;TZID=Europe/Stockholm:20160521T160000
DTEND;TZID=Europe/Stockholm:20160521T170000
DTSTAMP:20260419T202734
CREATED:20160520T064955Z
LAST-MODIFIED:20160520T070127Z
UID:7037-1463846400-1463850000@arkiv.gratisuppsala.se
SUMMARY:Musikcafé med domkyrkans lilla flickkör
DESCRIPTION:Musikcafé med lilla flickkören från Uppsala domkyrka\nDirigent: Margareta Raab\nPianist: Anders Dillmar \nKatedralcaféet på domkyrkoplan \nLördag 21 maj kl 15.00 \nVälkomna! \nDela evenemanget
URL:https://arkiv.gratisuppsala.se/event/kopia-av-korsang-utan-granser/
LOCATION:Katedralkaféet\, Fjärdingen\, Uppsala\, 75310\, Sverige
CATEGORIES:Sång och Musik
GEO:59.8565906;17.6306386
X-APPLE-STRUCTURED-LOCATION;VALUE=URI;X-ADDRESS=Katedralkaféet Fjärdingen Uppsala 75310 Sverige;X-APPLE-RADIUS=500;X-TITLE=Fjärdingen:geo:17.6306386,59.8565906
END:VEVENT
END:VCALENDAR