BEGIN:VCALENDAR
VERSION:2.0
PRODID:-//Gratis Uppsala - ECPv5.2.1//NONSGML v1.0//EN
CALSCALE:GREGORIAN
METHOD:PUBLISH
X-WR-CALNAME:Gratis Uppsala
X-ORIGINAL-URL:https://arkiv.gratisuppsala.se
X-WR-CALDESC:Händelser för Gratis Uppsala
BEGIN:VTIMEZONE
TZID:Europe/Stockholm
BEGIN:DAYLIGHT
TZOFFSETFROM:+0100
TZOFFSETTO:+0200
TZNAME:CEST
DTSTART:20160327T010000
END:DAYLIGHT
BEGIN:STANDARD
TZOFFSETFROM:+0200
TZOFFSETTO:+0100
TZNAME:CET
DTSTART:20161030T010000
END:STANDARD
END:VTIMEZONE
BEGIN:VEVENT
DTSTART;TZID=Europe/Stockholm:20160514T100000
DTEND;TZID=Europe/Stockholm:20160514T130000
DTSTAMP:20260420T032340
CREATED:20160422T105025Z
LAST-MODIFIED:20160512T092223Z
UID:6837-1463220000-1463230800@arkiv.gratisuppsala.se
SUMMARY:Kosläpp vid Jällagymnasiet
DESCRIPTION:Evenemanget är fullbokat enligt Arla men det finns plats enligt Jällagymnasiet. \nGården öppnar klockan 09.00 och korna släpps ut på betet klockan 11.00. Medan du väntar på att få se deras vårystra kor\, gå gärna en tipspromenad. De rätta svaren presenteras på www.arla.se. Bland dem med flest rätt svar lottas ett litet pris ut som skickas hem till vinnaren. Så\, glöm inte anteckna ditt namn och din adress på tipslappens baksida. Passa också på att njuta av mjölk och en bulle. Arla bjuder! \nTa av från E4:an vid Uppsala N mot Östhammar väg 288. Jällagymnasiet ligger 6 km utanför Upssala. \nBussförbindelse: Det tar ca 15 minuter att åka buss från centrala Uppsala. Sträckan Uppsala – Jälla trafikeras av buss nr 886. Bussen utgår från busstationen och tar ca 10-15 minuter. \nDela evenemanget
URL:https://arkiv.gratisuppsala.se/event/koslapp-vid-jallagymnasiet/
CATEGORIES:Utflykt / Picknick
ATTACH;FMTTYPE=image/png:https://arkiv.gratisuppsala.se/wp-content/uploads/2016/05/1280px-Kosläpp_2011_5725507651-900x660Full.png
END:VEVENT
END:VCALENDAR