BEGIN:VCALENDAR
VERSION:2.0
PRODID:-//Gratis Uppsala - ECPv5.2.1//NONSGML v1.0//EN
CALSCALE:GREGORIAN
METHOD:PUBLISH
X-WR-CALNAME:Gratis Uppsala
X-ORIGINAL-URL:https://arkiv.gratisuppsala.se
X-WR-CALDESC:Händelser för Gratis Uppsala
BEGIN:VTIMEZONE
TZID:Europe/Stockholm
BEGIN:DAYLIGHT
TZOFFSETFROM:+0100
TZOFFSETTO:+0200
TZNAME:CEST
DTSTART:20160327T010000
END:DAYLIGHT
BEGIN:STANDARD
TZOFFSETFROM:+0200
TZOFFSETTO:+0100
TZNAME:CET
DTSTART:20161030T010000
END:STANDARD
END:VTIMEZONE
BEGIN:VEVENT
DTSTART;TZID=Europe/Stockholm:20160507T100000
DTEND;TZID=Europe/Stockholm:20160507T140000
DTSTAMP:20260421T201658
CREATED:20160422T091920Z
LAST-MODIFIED:20160502T071805Z
UID:6834-1462615200-1462629600@arkiv.gratisuppsala.se
SUMMARY:Kosläpp vid Lövsta gård
DESCRIPTION:Gården öppnar klockan 09.00 och korna släpps ut på betet klockan 11.00. Medan du väntar på att få se de vårystra korna får du gärna delta i tipspromenaden. De rätta svaren presenteras på www.arla.se. Bland dem med flest rätt svar lottas ett litet pris ut som skickas hem till vinnaren. Glöm inte anteckna ditt namn och adress på tipslappens baksida. Arla bjuder på kall mjölk och nybakade bullar. \nAnmäl dig på evenemangets hemsida. \nDela evenemanget
URL:https://arkiv.gratisuppsala.se/event/koslapp-vid-lovsta-gard/
LOCATION:Lövsta forskningscentrum\, Funbo Lövsta 27 \, Uppsala\, 755 97\, Sverige
CATEGORIES:Utflykt / Picknick
ATTACH;FMTTYPE=image/png:https://arkiv.gratisuppsala.se/wp-content/uploads/2016/05/1280px-Kosläpp_2011_5725507651-900x660Full.png
GEO:59.8367439;17.7990879
X-APPLE-STRUCTURED-LOCATION;VALUE=URI;X-ADDRESS=Lövsta forskningscentrum Funbo Lövsta 27  Uppsala 755 97 Sverige;X-APPLE-RADIUS=500;X-TITLE=Funbo Lövsta 27:geo:17.7990879,59.8367439
END:VEVENT
END:VCALENDAR