BEGIN:VCALENDAR
VERSION:2.0
PRODID:-//Gratis Uppsala - ECPv5.2.1//NONSGML v1.0//EN
CALSCALE:GREGORIAN
METHOD:PUBLISH
X-WR-CALNAME:Gratis Uppsala
X-ORIGINAL-URL:https://arkiv.gratisuppsala.se
X-WR-CALDESC:Händelser för Gratis Uppsala
BEGIN:VTIMEZONE
TZID:Europe/Stockholm
BEGIN:DAYLIGHT
TZOFFSETFROM:+0100
TZOFFSETTO:+0200
TZNAME:CEST
DTSTART:20170326T010000
END:DAYLIGHT
BEGIN:STANDARD
TZOFFSETFROM:+0200
TZOFFSETTO:+0100
TZNAME:CET
DTSTART:20171029T010000
END:STANDARD
END:VTIMEZONE
BEGIN:VEVENT
DTSTART;TZID=Europe/Stockholm:20171028T141500
DTEND;TZID=Europe/Stockholm:20171028T170000
DTSTAMP:20260420T151556
CREATED:20171026T073301Z
LAST-MODIFIED:20171026T073301Z
UID:18080-1509200100-1509210000@arkiv.gratisuppsala.se
SUMMARY:Bokbytardag i Ramhälls Bygdegård
DESCRIPTION:Bokbytardag i Ramhälls Bygdegård\nTa med dina böcker till Ramhälls Bygdegård och byt till böcker som du vill ha. \nTid och plats\nLördag 28 oktober kl 13:15-16:00\nRamhälls Bygdegård \nBild från pixabay.com \nDela evenemanget
URL:https://arkiv.gratisuppsala.se/event/kulturdag-i-ramhall-osthammar/
LOCATION:Ramhälls Bygdegård\, Ramhäll 106\, Alunda\, 74791
ATTACH;FMTTYPE=image/jpeg:https://arkiv.gratisuppsala.se/wp-content/uploads/2016/10/boktrave.jpg
GEO:60.09696;17.94089
X-APPLE-STRUCTURED-LOCATION;VALUE=URI;X-ADDRESS=Ramhälls Bygdegård Ramhäll 106 Alunda 74791;X-APPLE-RADIUS=500;X-TITLE=Ramhäll 106:geo:17.94089,60.09696
END:VEVENT
END:VCALENDAR