BEGIN:VCALENDAR
VERSION:2.0
PRODID:-//Gratis Uppsala - ECPv5.2.1//NONSGML v1.0//EN
CALSCALE:GREGORIAN
METHOD:PUBLISH
X-WR-CALNAME:Gratis Uppsala
X-ORIGINAL-URL:https://arkiv.gratisuppsala.se
X-WR-CALDESC:Händelser för Gratis Uppsala
BEGIN:VTIMEZONE
TZID:Europe/Stockholm
BEGIN:DAYLIGHT
TZOFFSETFROM:+0100
TZOFFSETTO:+0200
TZNAME:CEST
DTSTART:20160327T010000
END:DAYLIGHT
BEGIN:STANDARD
TZOFFSETFROM:+0200
TZOFFSETTO:+0100
TZNAME:CET
DTSTART:20161030T010000
END:STANDARD
END:VTIMEZONE
BEGIN:VEVENT
DTSTART;TZID=Europe/Stockholm:20161103T120000
DTEND;TZID=Europe/Stockholm:20161103T140000
DTSTAMP:20260421T040829
CREATED:20161014T074540Z
LAST-MODIFIED:20161018T080346Z
UID:8855-1478174400-1478181600@arkiv.gratisuppsala.se
SUMMARY:Kulturlov: Berättarworkshop med Dramatoriet (tonåringar)
DESCRIPTION:Bli en berättare! Tillsammans med en dramapedagog från Dramatoriet får du prova skapa berättelser och att fånga en publik. Tempot är högt och skratten många. Du har säkert hört folk säga ”jag har ingen fantasi”\, men på Dramatoriet vet att det inte stämmer. Det handlar bara om träning! Ingen kan lyfta tungvikter om den inte har tränat. Samma sak är det med kreativitet och berättande. Tillsammans med de andra deltagarna får du improvisera\, berätta och också kunskap i hur kroppspråket påverkar kommunikationen med andra. \nAnmälan till Knivsta bibliotek 018-34 72 30 eller knivstabibliotek@knivsta.se \nDela evenemanget
URL:https://arkiv.gratisuppsala.se/event/kulturlov-berattarworkshop-med-dramatoriet-tonaringar-2/
LOCATION:Knivsta Bibliotek\, Centralvägen 18\, Knivsta\, Knivsta\, 74140\, Sverige
CATEGORIES:Litteratur och Poesi
ORGANIZER;CN="Knivsta%20bibliotek":MAILTO:knivstabibliotek@knivsta.se
GEO:59.7276919;17.7857802
X-APPLE-STRUCTURED-LOCATION;VALUE=URI;X-ADDRESS=Knivsta Bibliotek Centralvägen 18 Knivsta Knivsta 74140 Sverige;X-APPLE-RADIUS=500;X-TITLE=Centralvägen 18:geo:17.7857802,59.7276919
END:VEVENT
END:VCALENDAR