BEGIN:VCALENDAR
VERSION:2.0
PRODID:-//Gratis Uppsala - ECPv5.2.1//NONSGML v1.0//EN
CALSCALE:GREGORIAN
METHOD:PUBLISH
X-WR-CALNAME:Gratis Uppsala
X-ORIGINAL-URL:https://arkiv.gratisuppsala.se
X-WR-CALDESC:Händelser för Gratis Uppsala
BEGIN:VTIMEZONE
TZID:Europe/Stockholm
BEGIN:DAYLIGHT
TZOFFSETFROM:+0100
TZOFFSETTO:+0200
TZNAME:CEST
DTSTART:20160327T010000
END:DAYLIGHT
BEGIN:STANDARD
TZOFFSETFROM:+0200
TZOFFSETTO:+0100
TZNAME:CET
DTSTART:20161030T010000
END:STANDARD
END:VTIMEZONE
BEGIN:VEVENT
DTSTART;VALUE=DATE:20160910
DTEND;VALUE=DATE:20160912
DTSTAMP:20260420T230613
CREATED:20160906T144253Z
LAST-MODIFIED:20160906T144253Z
UID:8244-1473469200-1473555599@arkiv.gratisuppsala.se
SUMMARY:Kulturnatten
DESCRIPTION:Kulturnatten i Uppsala – kultur eller bara en kul tur? \nHela stan är full med kultur\, evenemang och roliga upptåg. För alla åldrar och smaker.\nMissa inte årets enda dygn då det är natt hela tiden…KULTURNATTEN! \nHela programmet hittar du här. \nBild: pixabay.com. \nDela evenemanget
URL:https://arkiv.gratisuppsala.se/event/kulturnatten-2/
LOCATION:Uppsala\, Stora Torget\, Uppsala\, 75320\, Sverige
CATEGORIES:Kulturnatten
ATTACH;FMTTYPE=image/jpeg:https://arkiv.gratisuppsala.se/wp-content/uploads/2016/09/familjenatt.jpg
GEO:59.8583548;17.6396335
X-APPLE-STRUCTURED-LOCATION;VALUE=URI;X-ADDRESS=Uppsala Stora Torget Uppsala 75320 Sverige;X-APPLE-RADIUS=500;X-TITLE=Stora Torget:geo:17.6396335,59.8583548
END:VEVENT
END:VCALENDAR