BEGIN:VCALENDAR
VERSION:2.0
PRODID:-//Gratis Uppsala - ECPv5.2.1//NONSGML v1.0//EN
CALSCALE:GREGORIAN
METHOD:PUBLISH
X-WR-CALNAME:Gratis Uppsala
X-ORIGINAL-URL:https://arkiv.gratisuppsala.se
X-WR-CALDESC:Händelser för Gratis Uppsala
BEGIN:VTIMEZONE
TZID:Europe/Stockholm
BEGIN:DAYLIGHT
TZOFFSETFROM:+0100
TZOFFSETTO:+0200
TZNAME:CEST
DTSTART:20160327T010000
END:DAYLIGHT
BEGIN:STANDARD
TZOFFSETFROM:+0200
TZOFFSETTO:+0100
TZNAME:CET
DTSTART:20161030T010000
END:STANDARD
END:VTIMEZONE
BEGIN:VEVENT
DTSTART;TZID=Europe/Stockholm:20160316T190000
DTEND;TZID=Europe/Stockholm:20160316T200000
DTSTAMP:20260422T065213
CREATED:20160111T121530Z
LAST-MODIFIED:20160315T094132Z
UID:5700-1458154800-1458158400@arkiv.gratisuppsala.se
SUMMARY:Kvällskonsert på Sigtunastiftelsen
DESCRIPTION:Välkommen till en kvällskonsert i Sigtunastiftelsens vackra bibliotek. Vi gästas av den svensk-finska folkmusiktrion Folk´Avant\, en grupp med starkt uttryck\, delikata melodier\, flödande energi och stor värme. \nDela evenemanget
URL:https://arkiv.gratisuppsala.se/event/kvallskonsert-pa-sigtunastiftelsen/
LOCATION:Sigtunastiftelsen\, Manfred Björkquists allé 4\, Sigtuna\, Sverige
CATEGORIES:Sång och Musik
ORGANIZER;CN="Sigtunastiftelsen":MAILTO:info@sigtunastiftelsen.se
GEO:59.6158714;17.7101321
X-APPLE-STRUCTURED-LOCATION;VALUE=URI;X-ADDRESS=Sigtunastiftelsen Manfred Björkquists allé 4 Sigtuna Sverige;X-APPLE-RADIUS=500;X-TITLE=Manfred Björkquists allé 4:geo:17.7101321,59.6158714
END:VEVENT
END:VCALENDAR