BEGIN:VCALENDAR
VERSION:2.0
PRODID:-//Gratis Uppsala - ECPv5.2.1//NONSGML v1.0//EN
CALSCALE:GREGORIAN
METHOD:PUBLISH
X-WR-CALNAME:Gratis Uppsala
X-ORIGINAL-URL:https://arkiv.gratisuppsala.se
X-WR-CALDESC:Händelser för Gratis Uppsala
BEGIN:VTIMEZONE
TZID:Europe/Stockholm
BEGIN:DAYLIGHT
TZOFFSETFROM:+0100
TZOFFSETTO:+0200
TZNAME:CEST
DTSTART:20160327T010000
END:DAYLIGHT
BEGIN:STANDARD
TZOFFSETFROM:+0200
TZOFFSETTO:+0100
TZNAME:CET
DTSTART:20161030T010000
END:STANDARD
END:VTIMEZONE
BEGIN:VEVENT
DTSTART;TZID=Europe/Stockholm:20160215T180000
DTEND;TZID=Europe/Stockholm:20160215T200000
DTSTAMP:20260422T200627
CREATED:20160113T101024Z
LAST-MODIFIED:20160113T101024Z
UID:5775-1455559200-1455566400@arkiv.gratisuppsala.se
SUMMARY:Kvinnor i karriären - vad är problemet?
DESCRIPTION:Föreläsare : Anna Karin Celsing – styrelseordförande på SVT. Veronica Palm – fd riksdagsledamot (S) och\nUlrika Hagström – utredare TCO. \nVarmt Välkomna! \nDela evenemanget
URL:https://arkiv.gratisuppsala.se/event/kvinnor-i-karriaren-vad-ar-problemet/
LOCATION:Svedeliussalen\, Gamla torget 6\, Uppsala\, Sverige
GEO:59.8590563;17.63658
X-APPLE-STRUCTURED-LOCATION;VALUE=URI;X-ADDRESS=Svedeliussalen Gamla torget 6 Uppsala Sverige;X-APPLE-RADIUS=500;X-TITLE=Gamla torget 6:geo:17.63658,59.8590563
END:VEVENT
END:VCALENDAR