BEGIN:VCALENDAR
VERSION:2.0
PRODID:-//Gratis Uppsala - ECPv5.2.1//NONSGML v1.0//EN
CALSCALE:GREGORIAN
METHOD:PUBLISH
X-WR-CALNAME:Gratis Uppsala
X-ORIGINAL-URL:https://arkiv.gratisuppsala.se
X-WR-CALDESC:Händelser för Gratis Uppsala
BEGIN:VTIMEZONE
TZID:Europe/Stockholm
BEGIN:DAYLIGHT
TZOFFSETFROM:+0100
TZOFFSETTO:+0200
TZNAME:CEST
DTSTART:20180325T010000
END:DAYLIGHT
BEGIN:STANDARD
TZOFFSETFROM:+0200
TZOFFSETTO:+0100
TZNAME:CET
DTSTART:20181028T010000
END:STANDARD
END:VTIMEZONE
BEGIN:VEVENT
DTSTART;TZID=Europe/Stockholm:20181113T143000
DTEND;TZID=Europe/Stockholm:20181113T153000
DTSTAMP:20260420T102254
CREATED:20181108T131610Z
LAST-MODIFIED:20181108T131610Z
UID:31853-1542119400-1542123000@arkiv.gratisuppsala.se
SUMMARY:Kvinnorna bakom FN:s deklaration om mänskliga rättigheter
DESCRIPTION:Kvinnorna bakom FN:s deklaration om\nmänskliga rättigheter\n\n\nKvinnorna bakom FN:s deklaration – Rebecca Adami berättar utifrån sin bok ”Women and the Universal Declaration of Human Rights”. \n\n\n\nSärskilt uppmärksammas insatserna från Minerva Bernardino (Dominikanska republiken)\, Hansa Mehta (Indien) och Begum Shaista Ikramullah (Pakistan). \nDatum: Tisdagen den 13 november 2018\nTid: 14.30\nPlats: Fyriskällan\, S:t Olofsgatan 15\, Uppsala \nArrangör: Folkrörelsearkivet \n\n\nOm boken ”Women and the Universal Declaration of Human Rights”\nVilka var de icke-västerländska kvinnor som deltog i utarbetandet av Förenta nationernas stadga och FN:s deklaration om de mänskliga rättigheterna (UDHR) från 1945-1948?\nVilka medlemsländer representerade dessa kvinnor och på vilka sätt påtryckte de för ett mer inkluderande språk än “mannens rättigheter” i texterna?  \n”Women and the Universal Declaration of Human Rights” ger en historisk berättelse om mänskliga rättigheter från San Francisco-konferensen 1945 till den slutgiltiga omröstningen om stadgan i FN:s generalförsamling i december 1948 ur ett genusperspektiv. Boken framhäver bidrag från de feministiska\, latinamerikanska delegaterna och de framträdande icke västerländska kvinnliga representanter från FN:s nya medlemsländer. \n(Fristående översättning från engelska) \nUtgivare: Routledge\nPublicerad: October 10\, 2018\nISBN 9781138345355 \n  \n\n\nBesök gärna länkarna nedan (externa länkar öppnas i ett nytt fönster/flik). \nFyriskällan | Folkrörelsearkivet | Kommande föredrag och kurser \nBild: Pixabay \n\n Dela evenemanget
URL:https://arkiv.gratisuppsala.se/event/kvinnorna-bakom-fns-deklaration-om-manskliga-rattigheter/
LOCATION:Fyriskällan\, S:t Olofsgatan 15\, Uppsala\, 75321\, Sverige
CATEGORIES:Föreläsning och Kurs,Kunskap och Lärande,Litteratur och Poesi,Samhälle,Ungdom,Vuxen
ATTACH;FMTTYPE=image/jpeg:https://arkiv.gratisuppsala.se/wp-content/uploads/2018/10/small_оон.jpg.jpg
GEO:59.8609358;17.6357878
X-APPLE-STRUCTURED-LOCATION;VALUE=URI;X-ADDRESS=Fyriskällan S:t Olofsgatan 15 Uppsala 75321 Sverige;X-APPLE-RADIUS=500;X-TITLE=S:t Olofsgatan 15:geo:17.6357878,59.8609358
END:VEVENT
END:VCALENDAR