BEGIN:VCALENDAR
VERSION:2.0
PRODID:-//Gratis Uppsala - ECPv5.2.1//NONSGML v1.0//EN
CALSCALE:GREGORIAN
METHOD:PUBLISH
X-WR-CALNAME:Gratis Uppsala
X-ORIGINAL-URL:https://arkiv.gratisuppsala.se
X-WR-CALDESC:Händelser för Gratis Uppsala
BEGIN:VTIMEZONE
TZID:Europe/Stockholm
BEGIN:DAYLIGHT
TZOFFSETFROM:+0100
TZOFFSETTO:+0200
TZNAME:CEST
DTSTART:20160327T010000
END:DAYLIGHT
BEGIN:STANDARD
TZOFFSETFROM:+0200
TZOFFSETTO:+0100
TZNAME:CET
DTSTART:20161030T010000
END:STANDARD
END:VTIMEZONE
BEGIN:VEVENT
DTSTART;TZID=Europe/Stockholm:20161025T140000
DTEND;TZID=Europe/Stockholm:20161025T153000
DTSTAMP:20260420T071245
CREATED:20161020T065019Z
LAST-MODIFIED:20161020T071235Z
UID:9013-1477404000-1477409400@arkiv.gratisuppsala.se
SUMMARY:Kyrkträffen i Sunnersta - café med programpunkt
DESCRIPTION:Konsert i kyrkan. Musikskolans elever musicerar för oss. \nVar: Sunnersta Kyrka \nNär: 25:e oktober. \nTid: 13:00 – 14:30 \nDela evenemanget
URL:https://arkiv.gratisuppsala.se/event/kyrktraffen-sunnersta-cafe-med-programpunkt/
LOCATION:Sunnersta kyrka\, Sunnerstavägen 37\, Uppsala\, 756 51\, Sverige
CATEGORIES:Religion
ATTACH;FMTTYPE=image/jpeg:https://arkiv.gratisuppsala.se/wp-content/uploads/2016/10/Sun_kyrk_057.jpg
GEO:59.7982338;17.6567088
X-APPLE-STRUCTURED-LOCATION;VALUE=URI;X-ADDRESS=Sunnersta kyrka Sunnerstavägen 37 Uppsala 756 51 Sverige;X-APPLE-RADIUS=500;X-TITLE=Sunnerstavägen 37:geo:17.6567088,59.7982338
END:VEVENT
END:VCALENDAR