BEGIN:VCALENDAR
VERSION:2.0
PRODID:-//Gratis Uppsala - ECPv5.2.1//NONSGML v1.0//EN
CALSCALE:GREGORIAN
METHOD:PUBLISH
X-WR-CALNAME:Gratis Uppsala
X-ORIGINAL-URL:https://arkiv.gratisuppsala.se
X-WR-CALDESC:Händelser för Gratis Uppsala
BEGIN:VTIMEZONE
TZID:Europe/Stockholm
BEGIN:DAYLIGHT
TZOFFSETFROM:+0100
TZOFFSETTO:+0200
TZNAME:CEST
DTSTART:20180325T010000
END:DAYLIGHT
BEGIN:STANDARD
TZOFFSETFROM:+0200
TZOFFSETTO:+0100
TZNAME:CET
DTSTART:20181028T010000
END:STANDARD
END:VTIMEZONE
BEGIN:VEVENT
DTSTART;TZID=Europe/Stockholm:20180913T143000
DTEND;TZID=Europe/Stockholm:20180913T143000
DTSTAMP:20260420T100548
CREATED:20180908T133010Z
LAST-MODIFIED:20180908T133010Z
UID:23023-1536849000-1536849000@arkiv.gratisuppsala.se
SUMMARY:Läkemedelsinformation på Anhörigcentrum
DESCRIPTION:Läkemedelsinformation på Anhörigcentrum\nVad vet du om medicinen? Informationsträff om läkemedel.\nApotekare Shuva Paul från Apoteket AB informerar om olika sätt att ta läkemedel\,\nbiverkningar med mera. Det finns möjlighet till frågor och diskussion. \nDatum: Torsdag 13 september\nTid: 13.30\nPlats: Anhörigcentrum\, S:t Persgatan 10 A.\nAnmälan: Föranmälan till Anhörigcentrum.* \n\n* Vid förhinder vänligen avboka så platsen kan erbjudas till någon annan \n\nBesök gärna Uppsala vård och omsorg – Anhörigstöd för mer information. \nBild: Public Domain Pictures \nDela evenemanget
URL:https://arkiv.gratisuppsala.se/event/lakemedelsinformation/
LOCATION:Anhörigcentrum\, S:t Persgatan 10 A\, Uppsala\, Sverige
CATEGORIES:60+,För anhöriga,Teknik och Vetenskap,Vuxen
ATTACH;FMTTYPE=image/jpeg:https://arkiv.gratisuppsala.se/wp-content/uploads/2018/03/medication-e1536416959362.jpg
GEO:59.8598018;17.6380593
X-APPLE-STRUCTURED-LOCATION;VALUE=URI;X-ADDRESS=Anhörigcentrum S:t Persgatan 10 A Uppsala Sverige;X-APPLE-RADIUS=500;X-TITLE=S:t Persgatan 10 A:geo:17.6380593,59.8598018
END:VEVENT
END:VCALENDAR