BEGIN:VCALENDAR
VERSION:2.0
PRODID:-//Gratis Uppsala - ECPv5.2.1//NONSGML v1.0//EN
CALSCALE:GREGORIAN
METHOD:PUBLISH
X-WR-CALNAME:Gratis Uppsala
X-ORIGINAL-URL:https://arkiv.gratisuppsala.se
X-WR-CALDESC:Händelser för Gratis Uppsala
BEGIN:VTIMEZONE
TZID:Europe/Stockholm
BEGIN:DAYLIGHT
TZOFFSETFROM:+0100
TZOFFSETTO:+0200
TZNAME:CEST
DTSTART:20160327T010000
END:DAYLIGHT
BEGIN:STANDARD
TZOFFSETFROM:+0200
TZOFFSETTO:+0100
TZNAME:CET
DTSTART:20161030T010000
END:STANDARD
END:VTIMEZONE
BEGIN:VEVENT
DTSTART;TZID=Europe/Stockholm:20160105T140000
DTEND;TZID=Europe/Stockholm:20160105T144500
DTSTAMP:20260420T150834
CREATED:20151229T090123Z
LAST-MODIFIED:20151229T090123Z
UID:5427-1452002400-1452005100@arkiv.gratisuppsala.se
SUMMARY:Lär dig åka skridskor
DESCRIPTION:Vill ditt barn lära sig att åka skridskor? \nVill du själv bli bättre på att åka skridskor? \nVälkomna på våra PROVA-PÅ-DAGAR! \nPlats: A-hallen\, Gränby \nDela evenemanget
URL:https://arkiv.gratisuppsala.se/event/lar-dig-aka-skridskor/
LOCATION:Gränby ishall\, Råbyvägen 71\, Uppsala\, 754 30\, Sverige
CATEGORIES:Kropp och Själ,Sport & Motion
ATTACH;FMTTYPE=image/jpeg:https://arkiv.gratisuppsala.se/wp-content/uploads/2015/12/Skridskor.jpg
ORGANIZER;CN="Uppsala%20skridskoklubb":MAILTO:styrelsen.uppsalask@gmail.com 
GEO:59.8802357;17.6565891
X-APPLE-STRUCTURED-LOCATION;VALUE=URI;X-ADDRESS=Gränby ishall Råbyvägen 71 Uppsala 754 30 Sverige;X-APPLE-RADIUS=500;X-TITLE=Råbyvägen 71:geo:17.6565891,59.8802357
END:VEVENT
END:VCALENDAR