BEGIN:VCALENDAR
VERSION:2.0
PRODID:-//Gratis Uppsala - ECPv5.2.1//NONSGML v1.0//EN
CALSCALE:GREGORIAN
METHOD:PUBLISH
X-WR-CALNAME:Gratis Uppsala
X-ORIGINAL-URL:https://arkiv.gratisuppsala.se
X-WR-CALDESC:Händelser för Gratis Uppsala
BEGIN:VTIMEZONE
TZID:Europe/Stockholm
BEGIN:DAYLIGHT
TZOFFSETFROM:+0100
TZOFFSETTO:+0200
TZNAME:CEST
DTSTART:20190331T010000
END:DAYLIGHT
BEGIN:STANDARD
TZOFFSETFROM:+0200
TZOFFSETTO:+0100
TZNAME:CET
DTSTART:20191027T010000
END:STANDARD
END:VTIMEZONE
BEGIN:VEVENT
DTSTART;TZID=Europe/Stockholm:20191127T180000
DTEND;TZID=Europe/Stockholm:20191127T200000
DTSTAMP:20260420T134113
CREATED:20191126T082044Z
LAST-MODIFIED:20191126T082044Z
UID:39786-1574877600-1574884800@arkiv.gratisuppsala.se
SUMMARY:Lär dig mer om nya "Självhjälp på vägen"
DESCRIPTION:Lär dig mer om nya “Självhjälp på vägen”\nFöreläsning onsdag 27 november kl 18–20\nBUP och Attention lanserar en ny version av sjalvhjalppavagen.se. En webbplats för förståelse och kunskap om neuropsykiatriska funktionsnedsättningar. Nu med fler filmer\, uppdaterad text och översättning till engelska och arabiska. Kom och lyssna när eldsjälar bakom Självhjälp på vägen\, visar hemsidan\, svarar på frågor och tar emot synpunkter. \nFöreläsare:\nHenrik Pelling\, specialist i barn- och ungdomspsykiatri\nEva Videnberg\, behandlare på BUP \nPå sjalvhjalppavagen.se kan du informera dig om: \n\nADHD\, autism\, Asperger\, OCD\, Tourette\, bipolär sjukdom\nVad orsaken kan vara\nHur svårigheterna kan yttra sig\nVad behandling innebär\nHur omgivningen kan hjälpa och stötta\n\nAlla intresserade är varmt välkomna! \nDatum: Onsdag 27 november 2019\nTid: Kl 18:00-20:00\nPlats: Infoteket om funktionshinder\, Kungsgärdets center\, S:t Johannesgatan 28 D\, Uppsala\nÅlder: Ej angivet\nPris: Fri entré\nAnmälan: infoteket@regionuppsala.se eller 018-611 66 77.\nFöreläsare: Henrik Pelling\, specialist i barn- och ungdomspsykiatri och Eva Videnberg\, behandlare på BUP\nTillgänglighet: Hörslinga finns\nArrangör: Infoteket om funktionshinder \n\nInfoteket\nInfoteket om funktionshinder är till för dig som har en funktionsnedsättning\, är anhörig eller arbetar med barn\, ungdomar eller vuxna med funktionsnedsättningar i skola eller annan verksamhet. \nPå Infoteket kan du läsa och låna aktuell litteratur\, filmer\, söka information på webben\, tala med experter och lyssna på föreläsningar. Infoteket har lästips och faktablad om olika diagnoser och funktionsnedsättningar samt ett visningstorg för kommunikativt och kognitivt stöd. \nPå infoteket finns information om olika funktionsnedsättningar – främst medfödda eller tidigt förvärvade.\nKunnig personal kan svara på frågor och ge vägledning för vidare kunskapssökning.\nInfoteket är också ett utbildningscenter med brett utbud för personer som själva har någon funktionsnedsättning\, anhöriga\, personal och andra intresserade.\nPå Infotekets webbsida finns aktuell information\, infotekets faktatexter\, litteratur- och evenemangstips. På webbsidan kan man även ställa frågor till experter.\nArbetet med att ta fram faktatexter för infoteket görs av personal inom habilitering\, rehabilitering och psykiatri.\nInfoteket är en verksamhet inom Region Uppsala. \n\nBesök gärna länkarna nedan (externa länkar öppnas i ett nytt fönster/flik). \nInfoteket | Kommande event för/om dig med funtionsnedsättning | Kommande event kunskap och lärande \nBild: pixabay.com \nDela evenemanget
URL:https://arkiv.gratisuppsala.se/event/lar-dig-mer-om-nya-sjalvhjalp-pa-vagen/
LOCATION:Infoteket om funktionshinder\, S:t Johannesgatan 28 D\, Uppsala\, 752 33\, Sverige
CATEGORIES:Ålderskategori,Anmälan,Anmälan / Kostnad,För anhöriga,Funktionsvariationer,Geografisk kategori,Gratis,Hälsa & Välmående,Identitet,Kåbo,Psykisk hälsa,Ungdom,Uppsala
ATTACH;FMTTYPE=image/jpeg:https://arkiv.gratisuppsala.se/wp-content/uploads/2019/09/mobile-phone-4362889_1280.jpg
ORGANIZER;CN="Infoteket%20om%20funktionshinder":MAILTO:infoteket@lul.se
GEO:59.8553013;17.6213622
X-APPLE-STRUCTURED-LOCATION;VALUE=URI;X-ADDRESS=Infoteket om funktionshinder S:t Johannesgatan 28 D Uppsala 752 33 Sverige;X-APPLE-RADIUS=500;X-TITLE=S:t Johannesgatan 28 D:geo:17.6213622,59.8553013
END:VEVENT
END:VCALENDAR