BEGIN:VCALENDAR
VERSION:2.0
PRODID:-//Gratis Uppsala - ECPv5.2.1//NONSGML v1.0//EN
CALSCALE:GREGORIAN
METHOD:PUBLISH
X-WR-CALNAME:Gratis Uppsala
X-ORIGINAL-URL:https://arkiv.gratisuppsala.se
X-WR-CALDESC:Händelser för Gratis Uppsala
BEGIN:VTIMEZONE
TZID:Europe/Stockholm
BEGIN:DAYLIGHT
TZOFFSETFROM:+0100
TZOFFSETTO:+0200
TZNAME:CEST
DTSTART:20180325T010000
END:DAYLIGHT
BEGIN:STANDARD
TZOFFSETFROM:+0200
TZOFFSETTO:+0100
TZNAME:CET
DTSTART:20181028T010000
END:STANDARD
END:VTIMEZONE
BEGIN:VEVENT
DTSTART;TZID=Europe/Stockholm:20180118T130000
DTEND;TZID=Europe/Stockholm:20180118T140000
DTSTAMP:20260420T180725
CREATED:20180109T120624Z
LAST-MODIFIED:20180112T084556Z
UID:21472-1516280400-1516284000@arkiv.gratisuppsala.se
SUMMARY:Läsecirkel för vuxna
DESCRIPTION:Läsecirkel för vuxna på Stenhagenbiblioteket\n\n\nStenhagenbiblioteket har två återkommande läsecirklar för vuxna som återkommer en gång i månaden. Deltagarna träffas över en fika för att prata om de böcker de tillsammans har läst. \n\n\n\nFöranmälan till biblioteket. \nTid och plats\nTisdagscirkeln äger rum kl. 11:00-12:00 tisdagarna 23/1\, 27/2\, 27/3\, 24/4 och 22/5 \nTorsdagscirkeln äger rum kl. 13:00-14:00 torsdagarna 18/1\, 15/2\, 15/3\, 12/4 och 17/5 \nStenhagenbiblioteket \nBild från Pixabay.com\n\n Dela evenemanget
URL:https://arkiv.gratisuppsala.se/event/lasecirkel-4/2018-01-18/
LOCATION:Stenhagenbiblioteket\, Herrhagsvägen 8\, Uppsala
CATEGORIES:60+,Kunskap och Lärande,Litteratur och Poesi,Vuxen
ATTACH;FMTTYPE=image/jpeg:https://arkiv.gratisuppsala.se/wp-content/uploads/2017/12/woman-2994536_640.jpg
ORGANIZER;CN="Stenhagenbiblioteket":MAILTO:stenhagenbiblioteket@uppsala.se
END:VEVENT
END:VCALENDAR