BEGIN:VCALENDAR
VERSION:2.0
PRODID:-//Gratis Uppsala - ECPv5.2.1//NONSGML v1.0//EN
CALSCALE:GREGORIAN
METHOD:PUBLISH
X-WR-CALNAME:Gratis Uppsala
X-ORIGINAL-URL:https://arkiv.gratisuppsala.se
X-WR-CALDESC:Händelser för Gratis Uppsala
BEGIN:VTIMEZONE
TZID:Europe/Stockholm
BEGIN:DAYLIGHT
TZOFFSETFROM:+0100
TZOFFSETTO:+0200
TZNAME:CEST
DTSTART:20150329T010000
END:DAYLIGHT
BEGIN:STANDARD
TZOFFSETFROM:+0200
TZOFFSETTO:+0100
TZNAME:CET
DTSTART:20151025T010000
END:STANDARD
END:VTIMEZONE
BEGIN:VEVENT
DTSTART;TZID=Europe/Stockholm:20151205T150000
DTEND;TZID=Europe/Stockholm:20151205T164500
DTSTAMP:20260422T102908
CREATED:20151123T091600Z
LAST-MODIFIED:20151123T093958Z
UID:4799-1449327600-1449333900@arkiv.gratisuppsala.se
SUMMARY:Last Night of the Proms
DESCRIPTION:Välkommen till jubileumskonsert med Hemvärnets musikkår Uppsala. Då får ni höra allt från renässans till filmmusik\, och självklart några taktfasta marscher. Dessutom bjuder vi på ett spännande möte med jazzlegenden Ulf Johansson Werre som gästsolist. \n\n\nHemvärnets musikkår Uppsala är en symfonisk blåsorkester med ca 45 aktiva musiker från hela Uppland med omnejd. Sedan 2002 är kåren godkänd för framträdanden med försvarsidentitet i statsceremoniella sammanhang\, inklusive högvakt\, och i utlandet. Vi spelar åt bland annat Ledningsregementet i Enköping\, Luftstridsskolan i Uppsala\, Hemvärnet i Uppland och Försvarsmusiken. \nMusikkåren kommer vid jubileumskonserten att framföra bland annat Fantasia on British Sea Songs\, känd från BBC Proms\, Leonard Bernsteins klassiska Overture to ”Candide”\, lite modernare Sun Dance av Frank Ticheli (f. 1958) och Gonna Fly Now\, ur filmen Rocky. Självklart bjuder vi på några mer eller mindre kända marscher också. Det blir alltså en eftermiddag fylld av musik från många olika genrer. \n\n Dela evenemanget
URL:https://arkiv.gratisuppsala.se/event/last-night-of-the-proms/
LOCATION:Uppsala Konsert & Kongress\, Vaksalatorg 1\, Uppsala
CATEGORIES:Sång och Musik
ATTACH;FMTTYPE=image/jpeg:https://arkiv.gratisuppsala.se/wp-content/uploads/2015/11/Affisch_40år.jpg
GEO:59.8614429;17.6460839
X-APPLE-STRUCTURED-LOCATION;VALUE=URI;X-ADDRESS=Uppsala Konsert & Kongress Vaksalatorg 1 Uppsala;X-APPLE-RADIUS=500;X-TITLE=Vaksalatorg 1:geo:17.6460839,59.8614429
END:VEVENT
END:VCALENDAR