BEGIN:VCALENDAR
VERSION:2.0
PRODID:-//Gratis Uppsala - ECPv5.2.1//NONSGML v1.0//EN
CALSCALE:GREGORIAN
METHOD:PUBLISH
X-WR-CALNAME:Gratis Uppsala
X-ORIGINAL-URL:https://arkiv.gratisuppsala.se
X-WR-CALDESC:Händelser för Gratis Uppsala
BEGIN:VTIMEZONE
TZID:Europe/Stockholm
BEGIN:DAYLIGHT
TZOFFSETFROM:+0100
TZOFFSETTO:+0200
TZNAME:CEST
DTSTART:20200329T010000
END:DAYLIGHT
BEGIN:STANDARD
TZOFFSETFROM:+0200
TZOFFSETTO:+0100
TZNAME:CET
DTSTART:20201025T010000
END:STANDARD
END:VTIMEZONE
BEGIN:VEVENT
DTSTART;TZID=Europe/Stockholm:20200118T100000
DTEND;TZID=Europe/Stockholm:20200118T130000
DTSTAMP:20260420T150549
CREATED:20200114T092540Z
LAST-MODIFIED:20200114T092540Z
UID:40309-1579341600-1579352400@arkiv.gratisuppsala.se
SUMMARY:Legolördag | Bälingebiblioteket (Drop in)
DESCRIPTION:Legolördag | Bälingebiblioteket (Drop in)\nUnder tre tillfällen håller Bälingebiblioteket legolördagar dit du kan komma och bygga med lego tillsammans med andra i alla åldrar. \nDatum: \nLördag 18 januari 2020\nLördag 8 februari 2020\nLördag 15 februari 2020 \nTid: 10:00 – 13:00\nPlats: Bälingebiblioteket\nÅlder: För alla!\nPris: Gratis (Drop in) \n\nOm Bibliotek Uppsala\n\n\nBibliotek Uppsala är en plats för möten\, kunskap och upplevelser. Tanken är att ge alla Uppsalabor tillgång till berättelser och information som kan ge nya insikter och nya perspektiv. Genom ett författarsamtal\, en bok\, en utställning\, en sagostund eller någon annan av de hundratals aktiviteter och arrangemang som erbjuds varje år. \n\n\n\nBesök gärna länkarna nedan (externa länkar öppnas i ett nytt fönster/flik).\nLegolördag | Kommande event inom pyssel \nFoto: Pixabay \nDela evenemanget
URL:https://arkiv.gratisuppsala.se/event/legolordag-balingebiblioteket-drop-in/2020-01-18/
LOCATION:Bälingebiblioteket\, Lundgårdsvägen 2\, Bälinge
CATEGORIES:Ålderskategori,Anmälan / Kostnad,Barn,Bibliotek,Familj,Geografisk kategori,Gratis,Pyssel,Skapande och Kreativitet,Ungdom,Uppsala Kommun
ATTACH;FMTTYPE=image/jpeg:https://arkiv.gratisuppsala.se/wp-content/uploads/2020/01/lego-blocks-2458575_1280-e1578649972495.jpg
ORGANIZER;CN="B%C3%A4lingebiblioteket":MAILTO:bibliotek.balinge@uppsala.se
GEO:59.9489388;17.5303465
X-APPLE-STRUCTURED-LOCATION;VALUE=URI;X-ADDRESS=Bälingebiblioteket Lundgårdsvägen 2 Bälinge;X-APPLE-RADIUS=500;X-TITLE=Lundgårdsvägen 2:geo:17.5303465,59.9489388
END:VEVENT
END:VCALENDAR