BEGIN:VCALENDAR
VERSION:2.0
PRODID:-//Gratis Uppsala - ECPv5.2.1//NONSGML v1.0//EN
CALSCALE:GREGORIAN
METHOD:PUBLISH
X-WR-CALNAME:Gratis Uppsala
X-ORIGINAL-URL:https://arkiv.gratisuppsala.se
X-WR-CALDESC:Händelser för Gratis Uppsala
BEGIN:VTIMEZONE
TZID:Europe/Stockholm
BEGIN:DAYLIGHT
TZOFFSETFROM:+0100
TZOFFSETTO:+0200
TZNAME:CEST
DTSTART:20160327T010000
END:DAYLIGHT
BEGIN:STANDARD
TZOFFSETFROM:+0200
TZOFFSETTO:+0100
TZNAME:CET
DTSTART:20161030T010000
END:STANDARD
END:VTIMEZONE
BEGIN:VEVENT
DTSTART;TZID=Europe/Stockholm:20160312T130000
DTEND;TZID=Europe/Stockholm:20160307T170000
DTSTAMP:20260421T193846
CREATED:20160307T104424Z
LAST-MODIFIED:20160307T104424Z
UID:6382-1457787600-1457370000@arkiv.gratisuppsala.se
SUMMARY:Lekisjazz på Market i UKK
DESCRIPTION:Lekisjazz på Market i UKK lördag 12 mars kl 13 i sal D\, passar extra bra för barn 1-7 år. \nLekisjazz väcker energi hos både stora och små. Med förkärlek till tidig New Orleans-jazz\, en gitarrist iklädd en stor krokodildräkt och en repertoar av välproducerade jazzlåtar lämnar de inte någon oberörd\, varken barnen eller deras föräldrar.\nEn låt handlar om en man som åker hiss och hamnar i ett tåg av demonstrerande insekter. En annan låt blir en resa in i ett märkligt skafferi… Det bjuds allt från swing-hits till calypso-gung med Elin\, Karin och jazzmusikerna i Krokodilorkestern! \nMed ambitionen att tvätta bort finrumsstämpeln från jazzmusiken och göra genren mer tillgänglig för barn släppte bandet ett svängigt album i höstas. Elin Trogen och Karin Carnrot som utgör kärnan i bandet vill att fler ska jazza mer! \nBobo Steneby\, Mikaela Hansson\, Johan Kull och Andreas Westerlund medverkar i Krokodilorkestern. \nFoto: lekisjazz.se. \nDela evenemanget
URL:https://arkiv.gratisuppsala.se/event/lekisjazz-pa-market-i-ukk/
LOCATION:Uppsala Konsert & Kongress\, Vaksalatorg 1\, Uppsala
CATEGORIES:Marknad & Loppis,Sång och Musik,Workshop
ATTACH;FMTTYPE=image/jpeg:https://arkiv.gratisuppsala.se/wp-content/uploads/2016/03/lekisjazz.se_.jpg
ORGANIZER;CN="Uppsala%20Konsert%20%26%20Kongress":MAILTO:info@ukk.se
GEO:59.8614429;17.6460839
X-APPLE-STRUCTURED-LOCATION;VALUE=URI;X-ADDRESS=Uppsala Konsert & Kongress Vaksalatorg 1 Uppsala;X-APPLE-RADIUS=500;X-TITLE=Vaksalatorg 1:geo:17.6460839,59.8614429
END:VEVENT
END:VCALENDAR