BEGIN:VCALENDAR
VERSION:2.0
PRODID:-//Gratis Uppsala - ECPv5.2.1//NONSGML v1.0//EN
CALSCALE:GREGORIAN
METHOD:PUBLISH
X-WR-CALNAME:Gratis Uppsala
X-ORIGINAL-URL:https://arkiv.gratisuppsala.se
X-WR-CALDESC:Händelser för Gratis Uppsala
BEGIN:VTIMEZONE
TZID:Europe/Stockholm
BEGIN:DAYLIGHT
TZOFFSETFROM:+0100
TZOFFSETTO:+0200
TZNAME:CEST
DTSTART:20160327T010000
END:DAYLIGHT
BEGIN:STANDARD
TZOFFSETFROM:+0200
TZOFFSETTO:+0100
TZNAME:CET
DTSTART:20161030T010000
END:STANDARD
END:VTIMEZONE
BEGIN:VEVENT
DTSTART;TZID=Europe/Stockholm:20160612T140000
DTEND;TZID=Europe/Stockholm:20160531T180000
DTSTAMP:20260421T050435
CREATED:20160531T111127Z
LAST-MODIFIED:20160531T111127Z
UID:7158-1465740000-1464717600@arkiv.gratisuppsala.se
SUMMARY:Liksvepning\, gravöl och gravvårdar
DESCRIPTION:Temavisning om när döden gästade hemmet och den dödes sista viloplats.\nVisningen börjar på Disagården och avslutas på Gamla Uppsala kyrkogård. \nFölj med på en tur där antikvarierna Frida Gereonsson och Agnetha Pettersson berättar mer om traditioner kring död och begravning i jordbrukssamhället. Vad innebar det att stå lik och hur länge pågick ett gravöl? Före eller efter begravningen kunde det serveras begravningskonfekt\, men det var inte alltid som karamellen åts upp. \nDela evenemanget
URL:https://arkiv.gratisuppsala.se/event/liksvepning-gravol-och-gravvardar/
LOCATION:Disagården\, Gamla Uppsala\, Uppsala\, Sverige
CATEGORIES:Föreläsning och Kurs,Samhälle
GEO:59.90112;17.629022
X-APPLE-STRUCTURED-LOCATION;VALUE=URI;X-ADDRESS=Disagården Gamla Uppsala Uppsala Sverige;X-APPLE-RADIUS=500;X-TITLE=Gamla Uppsala:geo:17.629022,59.90112
END:VEVENT
END:VCALENDAR