BEGIN:VCALENDAR
VERSION:2.0
PRODID:-//Gratis Uppsala - ECPv5.2.1//NONSGML v1.0//EN
CALSCALE:GREGORIAN
METHOD:PUBLISH
X-WR-CALNAME:Gratis Uppsala
X-ORIGINAL-URL:https://arkiv.gratisuppsala.se
X-WR-CALDESC:Händelser för Gratis Uppsala
BEGIN:VTIMEZONE
TZID:Europe/Stockholm
BEGIN:DAYLIGHT
TZOFFSETFROM:+0100
TZOFFSETTO:+0200
TZNAME:CEST
DTSTART:20180325T010000
END:DAYLIGHT
BEGIN:STANDARD
TZOFFSETFROM:+0200
TZOFFSETTO:+0100
TZNAME:CET
DTSTART:20181028T010000
END:STANDARD
END:VTIMEZONE
BEGIN:VEVENT
DTSTART;TZID=Europe/Stockholm:20180519T120000
DTEND;TZID=Europe/Stockholm:20180519T180000
DTSTAMP:20260419T203623
CREATED:20180427T073441Z
LAST-MODIFIED:20180427T073441Z
UID:22679-1526731200-1526752800@arkiv.gratisuppsala.se
SUMMARY:Linnés trädgårdsfest
DESCRIPTION:Trädgårdsfest\nI år fyller Carl von Linné 311 år. I samband med hans födelsedag hålls en blomstrande trädgårdsfest i kvarteret runt Linnéträdgården. Det kommer firas med marknad\, föredrag och 1700-talsfest! Träffa forskare från Uppsala Universitet och titta på Evolutionsmuseets samlingar. På Linnémuseet öppnas också årets sommarutställning “En samling blir till”. \nTid och plats\nLördagen 19 maj kl 11.00 – 17.00 \nLinneträdgården \nLäs mer här \nBild från Uppsala Universitet \nDela evenemanget
URL:https://arkiv.gratisuppsala.se/event/linnes-tradgardsfest/
LOCATION:Linnéträdgården\, Svartbäcksgatan 27\, Uppsala\, 753 32\, Sverige
CATEGORIES:60+,Kunskap och Lärande,Marknad & Loppis,Samhälle,Trädgård,Uppvisning
ATTACH;FMTTYPE=image/jpeg:https://arkiv.gratisuppsala.se/wp-content/uploads/2018/02/1700tal_2012_jk-e1524818015485.jpg
ORGANIZER;CN="Uppsala%20linneanska%20tr%C3%A4dg%C3%A5rdar":MAILTO:bokning@botan.uu.se
GEO:59.8622181;17.6349969
X-APPLE-STRUCTURED-LOCATION;VALUE=URI;X-ADDRESS=Linnéträdgården Svartbäcksgatan 27 Uppsala 753 32 Sverige;X-APPLE-RADIUS=500;X-TITLE=Svartbäcksgatan 27:geo:17.6349969,59.8622181
END:VEVENT
END:VCALENDAR