BEGIN:VCALENDAR
VERSION:2.0
PRODID:-//Gratis Uppsala - ECPv5.2.1//NONSGML v1.0//EN
CALSCALE:GREGORIAN
METHOD:PUBLISH
X-WR-CALNAME:Gratis Uppsala
X-ORIGINAL-URL:https://arkiv.gratisuppsala.se
X-WR-CALDESC:Händelser för Gratis Uppsala
BEGIN:VTIMEZONE
TZID:Europe/Stockholm
BEGIN:DAYLIGHT
TZOFFSETFROM:+0100
TZOFFSETTO:+0200
TZNAME:CEST
DTSTART:20160327T010000
END:DAYLIGHT
BEGIN:STANDARD
TZOFFSETFROM:+0200
TZOFFSETTO:+0100
TZNAME:CET
DTSTART:20161030T010000
END:STANDARD
END:VTIMEZONE
BEGIN:VEVENT
DTSTART;TZID=Europe/Stockholm:20160117T140000
DTEND;TZID=Europe/Stockholm:20160117T140000
DTSTAMP:20260419T190227
CREATED:20160114T123636Z
LAST-MODIFIED:20160114T133732Z
UID:5784-1453039200-1453039200@arkiv.gratisuppsala.se
SUMMARY:LionDub på Kulturoasen
DESCRIPTION:Niomannabandet LionDub är sedan ett decennium tillbaka Gävles reggaekungar. Bandet har under åren släppt flera album varav de senaste fyra under Stockholmsetiketten Rub-a-Dub. LionDubs musik är en skön blandning av Roots Reggae (UK style) och Lovers Rock. Bandet är kända för sin spelglädje och professionalism vid deras liveframträdanden men också för sitt tighta sound och en blåssektion av världsklass. \nFrivillig entré \nwww.liondub.com \nLionDub har länge räknats som ett av landets bästa live-reggaeband och deras skiva ifrån 2010 ”Connected” hyllades i pressen runt om i Sverige och fick även pris som årets bästa skiva på Local Heroes galan i Gävle 2011. Bandet har under åren gjort framträdanden runt om i Sverige med olika gäster som Dennis Bovell\, Papa Dee\, Joseph Beckford\, Internal Dread\, Junior Natural\, Löst Folk och kören ”Afro The New Generation”. Senast i augusti 2015 gjorde LionDub ett bejublat framträdande på Cornelis dagen på Mosebacke där de var speciellt inbjudna att tolka Cornelis låtar i reggae versioner. \nEfter den stora svenska reggaeprofilen Tom ”Internal Dread” Hofwanders tragiska bortgång 2012 förlorade LionDub inte bara sin producent utan även en mycket god vän. Bandet valde därför att hedra sin vän med att återvända till den legendariska Rub-a-dub studion i Stockholm för att göra en helt ny inspelning i hans anda. Arbetet med den nya skivan startade redan då Internal Dread var i livet och planen var att han skulle spela in och producera det som nu har blivit bandets senaste album ”Holding on”. Holding on släpptes så sent som den 3:e oktober i år. Där releasefestens intäkter på 17 400kr gick oavkortat till UNHCR insamling för den pågående flyktingkatastrofen i Europa. \nRub-a-dub studion har nu tagits över och drivs av Jonathan Sandberg (Miss Li och Kultiration). En bättre arvtagare kan man inte hitta då han har arbetat sida vid sida med Internal Dread och anammat den analoga tekniken och det speciella soundet som studion är känt för. En intressant detalj i Rub-a-dub är att allt spelas in på rullband och hela bandet spelar tillsammans i en och samma tagning! \nHolding on handlar om där bandet står i dag. En fot står fortfarande stadigt i historien och den andra är på väg in i framtiden. De nya medlemmarna Rasmus Diamant och Leif Fernqvist har bidragit med ny energi och hela bandet har varit engagerat i arrangemangen. Låtarna är skrivna och producerade av Lennart Wastesson och Jonas Bengtsson. Nya musikaliska inslag som Pedal Steel gitarr\, sopransaxofon och ett pianosolo som doftar Jan Johansson ryms på denna spännande skiva. \nLionDub: \nJonas Bengtsson – Trummor och kör \nMattias Bengtsson – Slagverk \nRalph Benton – Trombon \nRasmus Diamant – Bas \nPeter Ekengren – Sång och kör \nLeif Fernqvist – Trumpet \nJoakim Lindgren – Tenor and sopran saxofon \nAlexander Lindström – Piano\, orgel and klaviatur \nLennart Wastesson – Gitarrer\, pedal steel and kör \nDela evenemanget
URL:https://arkiv.gratisuppsala.se/event/liondub-kulturoasen/
LOCATION:Kulturoasen\, Hågavägen 190\, Uppsala
CATEGORIES:Sång och Musik
ATTACH;FMTTYPE=image/png:https://arkiv.gratisuppsala.se/wp-content/uploads/2016/01/liondub-e1452774935913.png
GEO:59.8381745;17.5761698
X-APPLE-STRUCTURED-LOCATION;VALUE=URI;X-ADDRESS=Kulturoasen Hågavägen 190 Uppsala;X-APPLE-RADIUS=500;X-TITLE=Hågavägen 190:geo:17.5761698,59.8381745
END:VEVENT
END:VCALENDAR