BEGIN:VCALENDAR
VERSION:2.0
PRODID:-//Gratis Uppsala - ECPv5.2.1//NONSGML v1.0//EN
CALSCALE:GREGORIAN
METHOD:PUBLISH
X-WR-CALNAME:Gratis Uppsala
X-ORIGINAL-URL:https://arkiv.gratisuppsala.se
X-WR-CALDESC:Händelser för Gratis Uppsala
BEGIN:VTIMEZONE
TZID:Europe/Stockholm
BEGIN:DAYLIGHT
TZOFFSETFROM:+0100
TZOFFSETTO:+0200
TZNAME:CEST
DTSTART:20170326T010000
END:DAYLIGHT
BEGIN:STANDARD
TZOFFSETFROM:+0200
TZOFFSETTO:+0100
TZNAME:CET
DTSTART:20171029T010000
END:STANDARD
END:VTIMEZONE
BEGIN:VEVENT
DTSTART;TZID=Europe/Stockholm:20170912T143000
DTEND;TZID=Europe/Stockholm:20170912T163000
DTSTAMP:20260420T101458
CREATED:20170824T115731Z
LAST-MODIFIED:20170824T115731Z
UID:17357-1505226600-1505233800@arkiv.gratisuppsala.se
SUMMARY:Lite huvudvärk har väl alla? En föreläsning om migrän
DESCRIPTION:Lite huvudvärk har väl alla\nUngefär 1\,3 miljoner svenskar har den kroniskt\, neurologiska och ärftliga sjukdomen migrän. Hur påverkas man av migrän som person? Hur påverkar migränen familjen och samhället i stort? Vad är migrän och vad triggar igång ett migränanfall? Vilka mediciner finns det och vad säger den senaste forskningen? \nOm föreläsaren: Laila Blideskog – ordförande i Migränföreningen Uppsala Län\, Utvecklingsledare inom neuropsykiatri på Forum för brukarinflytande\, sitter med i Attention Uppsalas styrelse och håller på med sitt exjobb för att ta en beteendevetarexamen med psykologi som huvudämne\, där exjobbet berör både migrän och neuropsykiatri. \nNÄR: Tisdagen den 12 september\nTID: Klockan 13.30-15.30\nLOKAL: Mariasalen\, Stiftets Hus \nAnmäl dig till föreläsningen på: sesamuppsala.se \nBild från pixabay.com \nDela evenemanget
URL:https://arkiv.gratisuppsala.se/event/lite-huvudvark-har-val-alla-en-forelasning-om-migran/
LOCATION:Stiftets Hus\, Dragarbrunnsgatan 71\, Uppsala\, Sverige
CATEGORIES:60+,Föreläsning och Kurs,Kropp och Själ,Kunskap och Lärande,Vuxen
ATTACH;FMTTYPE=image/jpeg:https://arkiv.gratisuppsala.se/wp-content/uploads/2017/08/headache-1472830_640.jpg
ORGANIZER;CN="SeSam":MAILTO:info@sesamuppsala.se
GEO:59.85519;17.6474562
X-APPLE-STRUCTURED-LOCATION;VALUE=URI;X-ADDRESS=Stiftets Hus Dragarbrunnsgatan 71 Uppsala Sverige;X-APPLE-RADIUS=500;X-TITLE=Dragarbrunnsgatan 71:geo:17.6474562,59.85519
END:VEVENT
END:VCALENDAR