BEGIN:VCALENDAR
VERSION:2.0
PRODID:-//Gratis Uppsala - ECPv5.2.1//NONSGML v1.0//EN
CALSCALE:GREGORIAN
METHOD:PUBLISH
X-WR-CALNAME:Gratis Uppsala
X-ORIGINAL-URL:https://arkiv.gratisuppsala.se
X-WR-CALDESC:Händelser för Gratis Uppsala
BEGIN:VTIMEZONE
TZID:Europe/Stockholm
BEGIN:DAYLIGHT
TZOFFSETFROM:+0100
TZOFFSETTO:+0200
TZNAME:CEST
DTSTART:20160327T010000
END:DAYLIGHT
BEGIN:STANDARD
TZOFFSETFROM:+0200
TZOFFSETTO:+0100
TZNAME:CET
DTSTART:20161030T010000
END:STANDARD
END:VTIMEZONE
BEGIN:VEVENT
DTSTART;TZID=Europe/Stockholm:20160928T200000
DTEND;TZID=Europe/Stockholm:20160928T220000
DTSTAMP:20260420T041840
CREATED:20160803T083426Z
LAST-MODIFIED:20160919T084803Z
UID:7933-1475092800-1475100000@arkiv.gratisuppsala.se
SUMMARY:Litteraturkväll på Sigtunastiftelsen - Nya litterära röster.
DESCRIPTION:Nya litterära röster\n28 september\, 19:00 – 21:00\nGratis\nKom och lyssna till den nya författargenerationen i en uppläsningskväll med Biskops-Arnös författarelever årskurs 1! Sedan 1960-talet är Biskops-Arnö Nordens Folkhögskola en ledande mötesplats för författare\, kritiker\, litteraturforskare från hela Norden. Många av de senaste decenniernas tongivande författare\, ofta socialt medvetna\, har gått på Biskops-Arnö\, liksom de mer existentiellt inriktade författarna\, speciellt 40- och 50-talisterna\, har haft och har Sigtunastiftelsen som litterär mötesplats. Idag\, då de identitetspolitiska\, ekologiska\, globala och… \nDela evenemanget
URL:https://arkiv.gratisuppsala.se/event/litteraturkvall-pa-sigtunastiftelsen-nya-litterara-roster/
LOCATION:Sigtunastiftelsen\, Manfred Björkqvists allé 4\, Sigtuna
CATEGORIES:Föreläsning och Kurs,Kropp och Själ
ORGANIZER;CN="Sigtunastiftelsen":MAILTO:info@sigtunastiftelsen.se
GEO:59.6158714;17.7101321
X-APPLE-STRUCTURED-LOCATION;VALUE=URI;X-ADDRESS=Sigtunastiftelsen Manfred Björkqvists allé 4 Sigtuna;X-APPLE-RADIUS=500;X-TITLE=Manfred Björkqvists allé 4:geo:17.7101321,59.6158714
END:VEVENT
END:VCALENDAR