BEGIN:VCALENDAR
VERSION:2.0
PRODID:-//Gratis Uppsala - ECPv5.2.1//NONSGML v1.0//EN
CALSCALE:GREGORIAN
METHOD:PUBLISH
X-WR-CALNAME:Gratis Uppsala
X-ORIGINAL-URL:https://arkiv.gratisuppsala.se
X-WR-CALDESC:Händelser för Gratis Uppsala
BEGIN:VTIMEZONE
TZID:Europe/Stockholm
BEGIN:DAYLIGHT
TZOFFSETFROM:+0100
TZOFFSETTO:+0200
TZNAME:CEST
DTSTART:20160327T010000
END:DAYLIGHT
BEGIN:STANDARD
TZOFFSETFROM:+0200
TZOFFSETTO:+0100
TZNAME:CET
DTSTART:20161030T010000
END:STANDARD
END:VTIMEZONE
BEGIN:VEVENT
DTSTART;VALUE=DATE:20160709
DTEND;VALUE=DATE:20160711
DTSTAMP:20260420T130610
CREATED:20160706T084448Z
LAST-MODIFIED:20160706T084448Z
UID:7737-1468026000-1468112399@arkiv.gratisuppsala.se
SUMMARY:Loppmarknad på Vaksala torg
DESCRIPTION:Lördagsloppis på torget från tidig morgon till sen eftermiddag. En loppis där det finns allt möjligt i stora mängder. Är du ute efter något speciellt behöver du vara ute tidigt. Om du själv vill sälja och sätta upp bord går det bra\, betalning sker i automat på torget. Det finns inga bord på plats att hyra och det går inte att boka plats i förväg. \nDela evenemanget
URL:https://arkiv.gratisuppsala.se/event/loppmarknad-pa-vaksala-torg/2016-07-09/
LOCATION:Vaksala torg\, Vaksala torg\, Uppsala\, 75331\, Sverige
CATEGORIES:Marknad & Loppis
ATTACH;FMTTYPE=image/png:https://arkiv.gratisuppsala.se/wp-content/uploads/2015/11/tecknad_loppis.png
ORGANIZER;CN="Uppsala%20kommun":MAILTO:uppsala.kommun@uppsala.se
GEO:59.8616044;17.647004
X-APPLE-STRUCTURED-LOCATION;VALUE=URI;X-ADDRESS=Vaksala torg Vaksala torg Uppsala 75331 Sverige;X-APPLE-RADIUS=500;X-TITLE=Vaksala torg:geo:17.647004,59.8616044
END:VEVENT
END:VCALENDAR