BEGIN:VCALENDAR
VERSION:2.0
PRODID:-//Gratis Uppsala - ECPv5.2.1//NONSGML v1.0//EN
CALSCALE:GREGORIAN
METHOD:PUBLISH
X-WR-CALNAME:Gratis Uppsala
X-ORIGINAL-URL:https://arkiv.gratisuppsala.se
X-WR-CALDESC:Händelser för Gratis Uppsala
BEGIN:VTIMEZONE
TZID:Europe/Stockholm
BEGIN:DAYLIGHT
TZOFFSETFROM:+0100
TZOFFSETTO:+0200
TZNAME:CEST
DTSTART:20160327T010000
END:DAYLIGHT
BEGIN:STANDARD
TZOFFSETFROM:+0200
TZOFFSETTO:+0100
TZNAME:CET
DTSTART:20161030T010000
END:STANDARD
END:VTIMEZONE
BEGIN:VEVENT
DTSTART;TZID=Europe/Stockholm:20160305T150000
DTEND;TZID=Europe/Stockholm:20160301T170000
DTSTAMP:20260422T083337
CREATED:20160301T131000Z
LAST-MODIFIED:20160301T131000Z
UID:6280-1457190000-1456851600@arkiv.gratisuppsala.se
SUMMARY:Lördagsjazz i puben hos Katalin
DESCRIPTION:Lördagsjazz i puben hos Katalin gästas den här veckan av Högman & Son Quintet. \nMedverkar gör John Högman på saxofon\, Thomas Arnesen gitarr\, Ambjörn Hugardt bas\, Hampus Högman på trombon och Oscar Johansson Werre vid trummorna. \nFrån kl 13 är det insläpp\, bandet spelar med början kl 15. Fri entré med frivillig orkesterslant. \nBild: pixabay.com. \nDela evenemanget
URL:https://arkiv.gratisuppsala.se/event/lordagsjazz-i-puben-hos-katalin-3/
LOCATION:Katalin\, Roslagsgatan 1\, Uppsala\, 753 27\, Sverige
CATEGORIES:Sång och Musik
ATTACH;FMTTYPE=image/png:https://arkiv.gratisuppsala.se/wp-content/uploads/2016/03/saxofonen.png
ORGANIZER;CN="Katalin":MAILTO:info@katalin.com
END:VEVENT
END:VCALENDAR