BEGIN:VCALENDAR
VERSION:2.0
PRODID:-//Gratis Uppsala - ECPv5.2.1//NONSGML v1.0//EN
CALSCALE:GREGORIAN
METHOD:PUBLISH
X-WR-CALNAME:Gratis Uppsala
X-ORIGINAL-URL:https://arkiv.gratisuppsala.se
X-WR-CALDESC:Händelser för Gratis Uppsala
BEGIN:VTIMEZONE
TZID:Europe/Stockholm
BEGIN:DAYLIGHT
TZOFFSETFROM:+0100
TZOFFSETTO:+0200
TZNAME:CEST
DTSTART:20160327T010000
END:DAYLIGHT
BEGIN:STANDARD
TZOFFSETFROM:+0200
TZOFFSETTO:+0100
TZNAME:CET
DTSTART:20161030T010000
END:STANDARD
END:VTIMEZONE
BEGIN:VEVENT
DTSTART;TZID=Europe/Stockholm:20160402T160000
DTEND;TZID=Europe/Stockholm:20160402T170000
DTSTAMP:20260420T011717
CREATED:20160129T121227Z
LAST-MODIFIED:20160129T121227Z
UID:6031-1459612800-1459616400@arkiv.gratisuppsala.se
SUMMARY:Lördagsmusik i Domkyrkan: Andrew Canning\, orgel
DESCRIPTION:Biträdande domorganisten Andrew Canning spelar orgel. \nLördag 2 april kl 15.00 \nFritt inträde \nVälkomna! \nKonserten ges i samarbete med studieförbundet Sensus \nDela evenemanget
URL:https://arkiv.gratisuppsala.se/event/lordagsmusik-domkyrkan-andrew-canning-orgel/
LOCATION:Uppsala domkyrka\, Domkyrkoplan 5\, Uppsala\, 75310\, Sverige
CATEGORIES:Sång och Musik
ATTACH;FMTTYPE=image/jpeg:https://arkiv.gratisuppsala.se/wp-content/uploads/2015/06/IMG_2333_2-e1439197523418.jpg
GEO:59.8584471;17.6332992
X-APPLE-STRUCTURED-LOCATION;VALUE=URI;X-ADDRESS=Uppsala domkyrka Domkyrkoplan 5 Uppsala 75310 Sverige;X-APPLE-RADIUS=500;X-TITLE=Domkyrkoplan 5:geo:17.6332992,59.8584471
END:VEVENT
END:VCALENDAR