BEGIN:VCALENDAR
VERSION:2.0
PRODID:-//Gratis Uppsala - ECPv5.2.1//NONSGML v1.0//EN
CALSCALE:GREGORIAN
METHOD:PUBLISH
X-WR-CALNAME:Gratis Uppsala
X-ORIGINAL-URL:https://arkiv.gratisuppsala.se
X-WR-CALDESC:Händelser för Gratis Uppsala
BEGIN:VTIMEZONE
TZID:Europe/Stockholm
BEGIN:DAYLIGHT
TZOFFSETFROM:+0100
TZOFFSETTO:+0200
TZNAME:CEST
DTSTART:20160327T010000
END:DAYLIGHT
BEGIN:STANDARD
TZOFFSETFROM:+0200
TZOFFSETTO:+0100
TZNAME:CET
DTSTART:20161030T010000
END:STANDARD
END:VTIMEZONE
BEGIN:VEVENT
DTSTART;TZID=Europe/Stockholm:20160220T150000
DTEND;TZID=Europe/Stockholm:20160220T161500
DTSTAMP:20260422T103119
CREATED:20160129T092810Z
LAST-MODIFIED:20160218T095416Z
UID:6012-1455980400-1455984900@arkiv.gratisuppsala.se
SUMMARY:Lördagsmusik i Domkyrkan med orgelduett och Västerås domkyrkas motettkör
DESCRIPTION:Västerås domkyrkas motettkör framför tillsammans med organisterna Johan Lindström och Johan Hammarström det nyskrivna verket Linnaeus Garden som inspirerats av Linnéträdgården här i Uppsala\, samt ytterligare musik av Judith Bingham. \nLördag 20 februari kl 15.00\nFritt inträde \nKonserten ges i samarbete med studieförbundet Sensus \n  \nDela evenemanget
URL:https://arkiv.gratisuppsala.se/event/lordagsmusik-domkyrkan-med-vasteras-domkyrkas-motettkor/
LOCATION:Uppsala domkyrka\, Domkyrkoplan 5\, Uppsala\, 75310\, Sverige
CATEGORIES:Sång och Musik
ATTACH;FMTTYPE=image/jpeg:https://arkiv.gratisuppsala.se/wp-content/uploads/2015/06/IMG_2333_2-e1439197523418.jpg
GEO:59.8584471;17.6332992
X-APPLE-STRUCTURED-LOCATION;VALUE=URI;X-ADDRESS=Uppsala domkyrka Domkyrkoplan 5 Uppsala 75310 Sverige;X-APPLE-RADIUS=500;X-TITLE=Domkyrkoplan 5:geo:17.6332992,59.8584471
END:VEVENT
END:VCALENDAR