BEGIN:VCALENDAR
VERSION:2.0
PRODID:-//Gratis Uppsala - ECPv5.2.1//NONSGML v1.0//EN
CALSCALE:GREGORIAN
METHOD:PUBLISH
X-WR-CALNAME:Gratis Uppsala
X-ORIGINAL-URL:https://arkiv.gratisuppsala.se
X-WR-CALDESC:Händelser för Gratis Uppsala
BEGIN:VTIMEZONE
TZID:Europe/Stockholm
BEGIN:DAYLIGHT
TZOFFSETFROM:+0100
TZOFFSETTO:+0200
TZNAME:CEST
DTSTART:20160327T010000
END:DAYLIGHT
BEGIN:STANDARD
TZOFFSETFROM:+0200
TZOFFSETTO:+0100
TZNAME:CET
DTSTART:20161030T010000
END:STANDARD
END:VTIMEZONE
BEGIN:VEVENT
DTSTART;TZID=Europe/Stockholm:20160924T160000
DTEND;TZID=Europe/Stockholm:20160924T164500
DTSTAMP:20260420T210830
CREATED:20160923T061849Z
LAST-MODIFIED:20161017T062249Z
UID:8409-1474732800-1474735500@arkiv.gratisuppsala.se
SUMMARY:Lördagsmusik i Domkyrkan
DESCRIPTION:Lördagsmusik i Uppsala domkyrka under terminstid\, en kortare konsert med fritt inträde. \nOrgelkonsert eller konsert med domkyrkans egna eller gästande körer. \nPågår ca 45 minuter. Det är alltid fri entré och kollekt tas upp. \nPlats: Uppsala Domkyrka. \nTid: kl. 15.00 \nVälkommen! \nKonserterna ges i samarbete med studieförbundet Sensus. \nDela evenemanget
URL:https://arkiv.gratisuppsala.se/event/lordagsmusik-i-domkyrkan/2016-09-24/
LOCATION:Uppsala domkyrka\, Domkyrkoplan 5\, Uppsala\, 75310\, Sverige
CATEGORIES:Religion,Sång och Musik
ATTACH;FMTTYPE=image/jpeg:https://arkiv.gratisuppsala.se/wp-content/uploads/2015/12/Dom-e1451464056562.jpg
GEO:59.8584471;17.6332992
X-APPLE-STRUCTURED-LOCATION;VALUE=URI;X-ADDRESS=Uppsala domkyrka Domkyrkoplan 5 Uppsala 75310 Sverige;X-APPLE-RADIUS=500;X-TITLE=Domkyrkoplan 5:geo:17.6332992,59.8584471
END:VEVENT
END:VCALENDAR