BEGIN:VCALENDAR
VERSION:2.0
PRODID:-//Gratis Uppsala - ECPv5.2.1//NONSGML v1.0//EN
CALSCALE:GREGORIAN
METHOD:PUBLISH
X-WR-CALNAME:Gratis Uppsala
X-ORIGINAL-URL:https://arkiv.gratisuppsala.se
X-WR-CALDESC:Händelser för Gratis Uppsala
BEGIN:VTIMEZONE
TZID:Europe/Stockholm
BEGIN:DAYLIGHT
TZOFFSETFROM:+0100
TZOFFSETTO:+0200
TZNAME:CEST
DTSTART:20150329T010000
END:DAYLIGHT
BEGIN:STANDARD
TZOFFSETFROM:+0200
TZOFFSETTO:+0100
TZNAME:CET
DTSTART:20151025T010000
END:STANDARD
END:VTIMEZONE
BEGIN:VEVENT
DTSTART;TZID=Europe/Stockholm:20150909T140000
DTEND;TZID=Europe/Stockholm:20150909T140000
DTSTAMP:20260420T021629
CREATED:20150903T104844Z
LAST-MODIFIED:20150903T104844Z
UID:3571-1441807200-1441807200@arkiv.gratisuppsala.se
SUMMARY:Lötenlunken
DESCRIPTION:De utgår från Lötenkyrkans kyrktorg. Efter en halvtimmes promenad träffas de i församlingssalen för en stunds samvaro vid en kopp kaffe. Promenaden sker i lugnt tempo med eller utan rullatorer och stavar.\nOm ni tycker att promenaden blir för lång kan ni promenera enbart till kyrkan och sedan dricka kaffe med ”lunkarna” när de kommer tillbaka.\nAlla är välkomna\, oavsett om man kommer någon enstaka gång eller mer regelbundet. \nDela evenemanget
URL:https://arkiv.gratisuppsala.se/event/lotenlunken/
LOCATION:Lötenkyrkan\, Heidenstamsgatan 71\, Uppsala\, 754 27\, Sverige
CATEGORIES:Sport & Motion
GEO:59.8780519;17.6466608
X-APPLE-STRUCTURED-LOCATION;VALUE=URI;X-ADDRESS=Lötenkyrkan Heidenstamsgatan 71 Uppsala 754 27 Sverige;X-APPLE-RADIUS=500;X-TITLE=Heidenstamsgatan 71:geo:17.6466608,59.8780519
END:VEVENT
END:VCALENDAR