BEGIN:VCALENDAR
VERSION:2.0
PRODID:-//Gratis Uppsala - ECPv5.2.1//NONSGML v1.0//EN
CALSCALE:GREGORIAN
METHOD:PUBLISH
X-WR-CALNAME:Gratis Uppsala
X-ORIGINAL-URL:https://arkiv.gratisuppsala.se
X-WR-CALDESC:Händelser för Gratis Uppsala
BEGIN:VTIMEZONE
TZID:Europe/Stockholm
BEGIN:DAYLIGHT
TZOFFSETFROM:+0100
TZOFFSETTO:+0200
TZNAME:CEST
DTSTART:20160327T010000
END:DAYLIGHT
BEGIN:STANDARD
TZOFFSETFROM:+0200
TZOFFSETTO:+0100
TZNAME:CET
DTSTART:20161030T010000
END:STANDARD
END:VTIMEZONE
BEGIN:VEVENT
DTSTART;TZID=Europe/Stockholm:20160929T140000
DTEND;TZID=Europe/Stockholm:20160929T150000
DTSTAMP:20260420T024444
CREATED:20160923T072317Z
LAST-MODIFIED:20160923T072739Z
UID:8439-1475157600-1475161200@arkiv.gratisuppsala.se
SUMMARY:Lötenträffen\, Fyra händer och en flygel.
DESCRIPTION:Lötenträffen\, Fyra händer och en flygel. \nSven Nilsson och Lennart Olbjer musicerar. \nPlats: Lötenkyrkan. \nTid: torsdag 29 september kl: 13.00. \nVälkommen! \nDela evenemanget
URL:https://arkiv.gratisuppsala.se/event/lotentraffen-fyra-hander-och-en-flygel/
LOCATION:Lötenkyrkan\, Heidenstamsgatan 71\, Uppsala\, 754 27\, Sverige
CATEGORIES:Sång och Musik
ATTACH;FMTTYPE=image/jpeg:https://arkiv.gratisuppsala.se/wp-content/uploads/2016/04/dce01491-7dce-4a64-8544-4c06c17e5a21.jpg
GEO:59.8780519;17.6466608
X-APPLE-STRUCTURED-LOCATION;VALUE=URI;X-ADDRESS=Lötenkyrkan Heidenstamsgatan 71 Uppsala 754 27 Sverige;X-APPLE-RADIUS=500;X-TITLE=Heidenstamsgatan 71:geo:17.6466608,59.8780519
END:VEVENT
END:VCALENDAR