BEGIN:VCALENDAR
VERSION:2.0
PRODID:-//Gratis Uppsala - ECPv5.2.1//NONSGML v1.0//EN
CALSCALE:GREGORIAN
METHOD:PUBLISH
X-WR-CALNAME:Gratis Uppsala
X-ORIGINAL-URL:https://arkiv.gratisuppsala.se
X-WR-CALDESC:Händelser för Gratis Uppsala
BEGIN:VTIMEZONE
TZID:Europe/Stockholm
BEGIN:DAYLIGHT
TZOFFSETFROM:+0100
TZOFFSETTO:+0200
TZNAME:CEST
DTSTART:20150329T010000
END:DAYLIGHT
BEGIN:STANDARD
TZOFFSETFROM:+0200
TZOFFSETTO:+0100
TZNAME:CET
DTSTART:20151025T010000
END:STANDARD
END:VTIMEZONE
BEGIN:VEVENT
DTSTART;TZID=Europe/Stockholm:20151213T180000
DTEND;TZID=Europe/Stockholm:20151207T170000
DTSTAMP:20260420T041513
CREATED:20151207T131329Z
LAST-MODIFIED:20151207T131329Z
UID:5122-1450029600-1449507600@arkiv.gratisuppsala.se
SUMMARY:Luciafirande Gamla Uppsala Kyrka
DESCRIPTION:Gamla Uppsala församling bjuder in till Luciafirande för både stora och små.  \nAdventsmusik med Gamla Uppsala kyrkas körer. Luciatåg med barnkörerna. \nBarbro Möller och Edward Thomas medverkar. \nGamla Uppsala Kyrka kl 18 söndag 13 december. \nBild: pixabay.com. \nDela evenemanget
URL:https://arkiv.gratisuppsala.se/event/luciafirande-gamla-uppsala-kyrka/
LOCATION:Gamla Uppsala kyrka\, Disavägen 8\, Uppsala\, 754 40\, Sverige
ATTACH;FMTTYPE=image/jpeg:https://arkiv.gratisuppsala.se/wp-content/uploads/2015/12/lussefirande.jpg
GEO:59.8995159;17.6314797
X-APPLE-STRUCTURED-LOCATION;VALUE=URI;X-ADDRESS=Gamla Uppsala kyrka Disavägen 8 Uppsala 754 40 Sverige;X-APPLE-RADIUS=500;X-TITLE=Disavägen 8:geo:17.6314797,59.8995159
END:VEVENT
END:VCALENDAR