BEGIN:VCALENDAR
VERSION:2.0
PRODID:-//Gratis Uppsala - ECPv5.2.1//NONSGML v1.0//EN
CALSCALE:GREGORIAN
METHOD:PUBLISH
X-WR-CALNAME:Gratis Uppsala
X-ORIGINAL-URL:https://arkiv.gratisuppsala.se
X-WR-CALDESC:Händelser för Gratis Uppsala
BEGIN:VTIMEZONE
TZID:Europe/Stockholm
BEGIN:DAYLIGHT
TZOFFSETFROM:+0100
TZOFFSETTO:+0200
TZNAME:CEST
DTSTART:20160327T010000
END:DAYLIGHT
BEGIN:STANDARD
TZOFFSETFROM:+0200
TZOFFSETTO:+0100
TZNAME:CET
DTSTART:20161030T010000
END:STANDARD
END:VTIMEZONE
BEGIN:VEVENT
DTSTART;TZID=Europe/Stockholm:20161210T180000
DTEND;TZID=Europe/Stockholm:20161205T170000
DTSTAMP:20260420T163710
CREATED:20161205T133735Z
LAST-MODIFIED:20161205T133735Z
UID:9569-1481392800-1480957200@arkiv.gratisuppsala.se
SUMMARY:Luciafirande i Lötenkyrkan
DESCRIPTION:Luciafirande i Lötenkyrkan\, lördag 10 december kl  18. \nBarn & Ungdomskörerna sjunger\, CD-release och festligt fika utlovas. \nFoto: sv.wikipedia.org/wiki/Fil:Lucia-13.12.06.jpg. \nDela evenemanget
URL:https://arkiv.gratisuppsala.se/event/luciafirande-i-lotenkyrkan/
LOCATION:Lötenkyrkan\, Heidenstamsgatan 71\, Uppsala\, 754 27\, Sverige
CATEGORIES:Konsert,Lucia,Religion
ATTACH;FMTTYPE=image/jpeg:https://arkiv.gratisuppsala.se/wp-content/uploads/2016/12/lucia_i_kyrka.jpg
GEO:59.8780519;17.6466608
X-APPLE-STRUCTURED-LOCATION;VALUE=URI;X-ADDRESS=Lötenkyrkan Heidenstamsgatan 71 Uppsala 754 27 Sverige;X-APPLE-RADIUS=500;X-TITLE=Heidenstamsgatan 71:geo:17.6466608,59.8780519
END:VEVENT
END:VCALENDAR