BEGIN:VCALENDAR
VERSION:2.0
PRODID:-//Gratis Uppsala - ECPv5.2.1//NONSGML v1.0//EN
CALSCALE:GREGORIAN
METHOD:PUBLISH
X-WR-CALNAME:Gratis Uppsala
X-ORIGINAL-URL:https://arkiv.gratisuppsala.se
X-WR-CALDESC:Händelser för Gratis Uppsala
BEGIN:VTIMEZONE
TZID:Europe/Stockholm
BEGIN:DAYLIGHT
TZOFFSETFROM:+0100
TZOFFSETTO:+0200
TZNAME:CEST
DTSTART:20150329T010000
END:DAYLIGHT
BEGIN:STANDARD
TZOFFSETFROM:+0200
TZOFFSETTO:+0100
TZNAME:CET
DTSTART:20151025T010000
END:STANDARD
END:VTIMEZONE
BEGIN:VEVENT
DTSTART;TZID=Europe/Stockholm:20151213T100000
DTEND;TZID=Europe/Stockholm:20151213T140000
DTSTAMP:20260420T085627
CREATED:20151208T060058Z
LAST-MODIFIED:20151208T060622Z
UID:5130-1450000800-1450015200@arkiv.gratisuppsala.se
SUMMARY:Luciafirande i Lunsentorpet
DESCRIPTION:Luciakaffe i Lunsentorpet söndag 13 december kl 10-14. \nNärmast med buss kommer man om man tar linje 12 eller 42. Vill man vandra dit gör man det längs Upplandsleden från någon av parkeringarna vid Flottsund\, Nyby eller Alsike. Karta. \nVid Lunsentorpet bjuds på traditionsenligt tunnbrödsbakning och aktiviteter för barn och vuxna. \nBild: uppsala.se. \nDela evenemanget
URL:https://arkiv.gratisuppsala.se/event/luciafirande-i-lunsentorpet/
LOCATION:Lunsentorpet\, Lunsentorpet\, Uppsala\, 755 98\, Sverige
CATEGORIES:Lucia,Utflykt / Picknick
ATTACH;FMTTYPE=image/jpeg:https://arkiv.gratisuppsala.se/wp-content/uploads/2015/12/lunsen-luciafika2.jpg
ORGANIZER;CN="Uppsala%20kommun":MAILTO:uppsala.kommun@uppsala.se
GEO:59.8585638;17.6389267
X-APPLE-STRUCTURED-LOCATION;VALUE=URI;X-ADDRESS=Lunsentorpet Lunsentorpet Uppsala 755 98 Sverige;X-APPLE-RADIUS=500;X-TITLE=Lunsentorpet:geo:17.6389267,59.8585638
END:VEVENT
END:VCALENDAR