BEGIN:VCALENDAR
VERSION:2.0
PRODID:-//Gratis Uppsala - ECPv5.2.1//NONSGML v1.0//EN
CALSCALE:GREGORIAN
METHOD:PUBLISH
X-WR-CALNAME:Gratis Uppsala
X-ORIGINAL-URL:https://arkiv.gratisuppsala.se
X-WR-CALDESC:Händelser för Gratis Uppsala
BEGIN:VTIMEZONE
TZID:Europe/Stockholm
BEGIN:DAYLIGHT
TZOFFSETFROM:+0100
TZOFFSETTO:+0200
TZNAME:CEST
DTSTART:20170326T010000
END:DAYLIGHT
BEGIN:STANDARD
TZOFFSETFROM:+0200
TZOFFSETTO:+0100
TZNAME:CET
DTSTART:20171029T010000
END:STANDARD
END:VTIMEZONE
BEGIN:VEVENT
DTSTART;TZID=Europe/Stockholm:20170830T090000
DTEND;TZID=Europe/Stockholm:20170830T180000
DTSTAMP:20260420T174052
CREATED:20170906T093501Z
LAST-MODIFIED:20170906T093501Z
UID:17761-1504083600-1504116000@arkiv.gratisuppsala.se
SUMMARY:Lunchmusik i Missionskyrkan hösten 2017
DESCRIPTION:Lunchmusik i Missionskyrkan\nOnsdagar kl 12.00\nLunchkonsert med diverse musikband som en del i serie med lunchmusik hos Missionskyrkan i Uppsala. Varje onsdag klockan 12.00 från 30 augusti till 20 december. \nLäs mer om eventet på Missionskyrkans hemsida\, här. \nProgram:  \n\n\n\nAugusti\n\n\n30\nBach\, B-A-C-H och brittiskt.\nJesper Rydén\, orgel\n\n\n\n\n\nSeptember\n\n\n6\nDaylight med Olle Naeslund\n\n\n13\nFor the love of art & opera\nNatalie Jones\, sopran och Mats Jansson\, piano\n\n\n20\nMoon River Trio\n\n\n27\nAnders Emtell\, gitarr\n\n\n\n\n\nOktober\n\n\n4\nFolkmusik på vårt sätt. Trio Minore med Margareta Ljungdahl\n\n\n11\nSvensk och fransk orgelromantik.\nMarkus Jonsson\, orgel\n\n\n18\nDaylight med AKO\n\n\n25\nElever från Uppsala Kulturskola\n\n\n\n\n\nNovember\n\n\n1\nSextett 60\n\n\n8\nSorgen och glädjen – musik i allhelgonatid\nMarkus Jonsson\, orgel och Ulrika Jonsson\, sång\n\n\n15\nMax Brynolf\, piano\n\n\n22\nElever från Uppsala Kulturskola\n\n\n29\nMissionskyrkans egna musikanter\n\n\n\n\n\nDecember\n\n\n6\nLinnékvintetten\n\n\n13\nLuciatåg med Musikklasserna\n\n\n20\nTrio X\n\n\n\n  \nBild: Inticia.se \nDela evenemanget
URL:https://arkiv.gratisuppsala.se/event/lunchmusik-missionskyrkan-4-2/2017-08-30/
LOCATION:Missionskyrkan\, S:t Olofsgatan 40\, Uppsala
CATEGORIES:Konsert,Sång och Musik
ATTACH;FMTTYPE=image/jpeg:https://arkiv.gratisuppsala.se/wp-content/uploads/2016/10/Missionskyrkan-Uppsala.jpg
GEO:59.8615973;17.6367168
X-APPLE-STRUCTURED-LOCATION;VALUE=URI;X-ADDRESS=Missionskyrkan S:t Olofsgatan 40 Uppsala;X-APPLE-RADIUS=500;X-TITLE=S:t Olofsgatan 40:geo:17.6367168,59.8615973
END:VEVENT
END:VCALENDAR