BEGIN:VCALENDAR
VERSION:2.0
PRODID:-//Gratis Uppsala - ECPv5.2.1//NONSGML v1.0//EN
CALSCALE:GREGORIAN
METHOD:PUBLISH
X-WR-CALNAME:Gratis Uppsala
X-ORIGINAL-URL:https://arkiv.gratisuppsala.se
X-WR-CALDESC:Händelser för Gratis Uppsala
BEGIN:VTIMEZONE
TZID:Europe/Stockholm
BEGIN:DAYLIGHT
TZOFFSETFROM:+0100
TZOFFSETTO:+0200
TZNAME:CEST
DTSTART:20160327T010000
END:DAYLIGHT
BEGIN:STANDARD
TZOFFSETFROM:+0200
TZOFFSETTO:+0100
TZNAME:CET
DTSTART:20161030T010000
END:STANDARD
END:VTIMEZONE
BEGIN:VEVENT
DTSTART;TZID=Europe/Stockholm:20160217T120000
DTEND;TZID=Europe/Stockholm:20160217T123000
DTSTAMP:20260422T173314
CREATED:20160119T134820Z
LAST-MODIFIED:20160125T134659Z
UID:5811-1455710400-1455712200@arkiv.gratisuppsala.se
SUMMARY:Lunchmusik i Missionskyrkan: Brahms cellosonat i F-dur
DESCRIPTION:Torbjörn Nilsson\, violoncell och Anette Muller-Roos\, piano framför Brahms sonat i F- dur op 99. \nMissionskyrkan 17 februari kl 12.00. \nFritt inträde. \nVälkomna! \nDela evenemanget
URL:https://arkiv.gratisuppsala.se/event/lunchmusik-missionskyrkan-brahms-cellosonat/
LOCATION:Missionskyrkan\, S:t Olofsgatan 40\, Uppsala
CATEGORIES:Sång och Musik
ATTACH;FMTTYPE=image/jpeg:https://arkiv.gratisuppsala.se/wp-content/uploads/2016/01/blå_bur.jpg
GEO:59.8615973;17.6367168
X-APPLE-STRUCTURED-LOCATION;VALUE=URI;X-ADDRESS=Missionskyrkan S:t Olofsgatan 40 Uppsala;X-APPLE-RADIUS=500;X-TITLE=S:t Olofsgatan 40:geo:17.6367168,59.8615973
END:VEVENT
END:VCALENDAR