BEGIN:VCALENDAR
VERSION:2.0
PRODID:-//Gratis Uppsala - ECPv5.2.1//NONSGML v1.0//EN
CALSCALE:GREGORIAN
METHOD:PUBLISH
X-WR-CALNAME:Gratis Uppsala
X-ORIGINAL-URL:https://arkiv.gratisuppsala.se
X-WR-CALDESC:Händelser för Gratis Uppsala
BEGIN:VTIMEZONE
TZID:Europe/Stockholm
BEGIN:DAYLIGHT
TZOFFSETFROM:+0100
TZOFFSETTO:+0200
TZNAME:CEST
DTSTART:20160327T010000
END:DAYLIGHT
BEGIN:STANDARD
TZOFFSETFROM:+0200
TZOFFSETTO:+0100
TZNAME:CET
DTSTART:20161030T010000
END:STANDARD
END:VTIMEZONE
BEGIN:VEVENT
DTSTART;TZID=Europe/Stockholm:20160120T120000
DTEND;TZID=Europe/Stockholm:20160120T123000
DTSTAMP:20260419T201941
CREATED:20160111T132617Z
LAST-MODIFIED:20160112T082936Z
UID:5701-1453291200-1453293000@arkiv.gratisuppsala.se
SUMMARY:Lunchmusik i Missionskyrkan: Gluntar
DESCRIPTION:Gluntar! \nHarald Bohlin och Michael Sahlin samt Gunnel Fagius på piano bjuder på smakprov ur den klassiska uppsaliensiska sångsamlingen Gluntarne. \nMissionskyrkan 20 januari kl 12.00. \nFritt inträde. \nVälkomna! \nDela evenemanget
URL:https://arkiv.gratisuppsala.se/event/lunchmusik-missionskyrkan-gluntar/
LOCATION:Missionskyrkan\, S:t Olofsgatan 40\, Uppsala
CATEGORIES:Sång och Musik
ATTACH;FMTTYPE=image/jpeg:https://arkiv.gratisuppsala.se/wp-content/uploads/2015/08/800px-Uppsala_Missionskyrka_ext1-e1438678399621.jpg
GEO:59.8615973;17.6367168
X-APPLE-STRUCTURED-LOCATION;VALUE=URI;X-ADDRESS=Missionskyrkan S:t Olofsgatan 40 Uppsala;X-APPLE-RADIUS=500;X-TITLE=S:t Olofsgatan 40:geo:17.6367168,59.8615973
END:VEVENT
END:VCALENDAR