BEGIN:VCALENDAR
VERSION:2.0
PRODID:-//Gratis Uppsala - ECPv5.2.1//NONSGML v1.0//EN
CALSCALE:GREGORIAN
METHOD:PUBLISH
X-WR-CALNAME:Gratis Uppsala
X-ORIGINAL-URL:https://arkiv.gratisuppsala.se
X-WR-CALDESC:Händelser för Gratis Uppsala
BEGIN:VTIMEZONE
TZID:Europe/Stockholm
BEGIN:DAYLIGHT
TZOFFSETFROM:+0100
TZOFFSETTO:+0200
TZNAME:CEST
DTSTART:20160327T010000
END:DAYLIGHT
BEGIN:STANDARD
TZOFFSETFROM:+0200
TZOFFSETTO:+0100
TZNAME:CET
DTSTART:20161030T010000
END:STANDARD
END:VTIMEZONE
BEGIN:VEVENT
DTSTART;TZID=Europe/Stockholm:20160928T130000
DTEND;TZID=Europe/Stockholm:20160928T140000
DTSTAMP:20260420T054621
CREATED:20160923T070936Z
LAST-MODIFIED:20161209T091812Z
UID:8438-1475067600-1475071200@arkiv.gratisuppsala.se
SUMMARY:Lunchmusik i Missionskyrkan\, Uppsala
DESCRIPTION:Konsert med diverse musikband som en del i serie med lunchmusik hos Missionskyrkan i Uppsala. Varje onsdag klockan 12.00 från 31 augusti till 21 december. \nProgram: \n \nDela evenemanget
URL:https://arkiv.gratisuppsala.se/event/lunchmusik-missionskyrkan-uppsala/2016-09-28/
LOCATION:Missionskyrkan\, S:t Olofsgatan 40\, Uppsala
CATEGORIES:60+,Sång och Musik
ATTACH;FMTTYPE=image/jpeg:https://arkiv.gratisuppsala.se/wp-content/uploads/2016/09/Missionskyrkan-2.jpg
GEO:59.8615973;17.6367168
X-APPLE-STRUCTURED-LOCATION;VALUE=URI;X-ADDRESS=Missionskyrkan S:t Olofsgatan 40 Uppsala;X-APPLE-RADIUS=500;X-TITLE=S:t Olofsgatan 40:geo:17.6367168,59.8615973
END:VEVENT
END:VCALENDAR