BEGIN:VCALENDAR
VERSION:2.0
PRODID:-//Gratis Uppsala - ECPv5.2.1//NONSGML v1.0//EN
CALSCALE:GREGORIAN
METHOD:PUBLISH
X-WR-CALNAME:Gratis Uppsala
X-ORIGINAL-URL:https://arkiv.gratisuppsala.se
X-WR-CALDESC:Händelser för Gratis Uppsala
BEGIN:VTIMEZONE
TZID:Europe/Stockholm
BEGIN:DAYLIGHT
TZOFFSETFROM:+0100
TZOFFSETTO:+0200
TZNAME:CEST
DTSTART:20170326T010000
END:DAYLIGHT
BEGIN:STANDARD
TZOFFSETFROM:+0200
TZOFFSETTO:+0100
TZNAME:CET
DTSTART:20171029T010000
END:STANDARD
END:VTIMEZONE
BEGIN:VEVENT
DTSTART;TZID=Europe/Stockholm:20170322T170000
DTEND;TZID=Europe/Stockholm:20170322T210000
DTSTAMP:20260420T024445
CREATED:20170321T142244Z
LAST-MODIFIED:20170322T105443Z
UID:12707-1490202000-1490216400@arkiv.gratisuppsala.se
SUMMARY:Mad Dog- från kaos till comeback
DESCRIPTION:Reza “Mad Dog” Madadi är uppvuxen i Gottsunda  han var en framgångsrik MMA-stjärna\, med stora sponsorkontrakt i amerikanska UFC. Han väntade sitt första barn tillsammans med sin fru Kate\, och sen så hände något som skulle förändra allt\, för alltid. \nDela evenemanget
URL:https://arkiv.gratisuppsala.se/event/mad-dog-fran-kaos-till-comeback/
LOCATION:Gottsundabiblioteket\, Valthornsvägen 11\, Uppsala\, 756 50 \, Sverige
CATEGORIES:Föreläsning och Kurs
ATTACH;FMTTYPE=image/jpeg:https://arkiv.gratisuppsala.se/wp-content/uploads/2017/01/brantings.jpg
ORGANIZER;CN="Bibliotek%20Uppsala":MAILTO:kundtjanst@bibliotekuppsala.se
GEO:59.8093409;17.6295555
X-APPLE-STRUCTURED-LOCATION;VALUE=URI;X-ADDRESS=Gottsundabiblioteket Valthornsvägen 11 Uppsala 756 50  Sverige;X-APPLE-RADIUS=500;X-TITLE=Valthornsvägen 11:geo:17.6295555,59.8093409
END:VEVENT
END:VCALENDAR