BEGIN:VCALENDAR
VERSION:2.0
PRODID:-//Gratis Uppsala - ECPv5.2.1//NONSGML v1.0//EN
CALSCALE:GREGORIAN
METHOD:PUBLISH
X-WR-CALNAME:Gratis Uppsala
X-ORIGINAL-URL:https://arkiv.gratisuppsala.se
X-WR-CALDESC:Händelser för Gratis Uppsala
BEGIN:VTIMEZONE
TZID:Europe/Stockholm
BEGIN:DAYLIGHT
TZOFFSETFROM:+0100
TZOFFSETTO:+0200
TZNAME:CEST
DTSTART:20200329T010000
END:DAYLIGHT
BEGIN:STANDARD
TZOFFSETFROM:+0200
TZOFFSETTO:+0100
TZNAME:CET
DTSTART:20201025T010000
END:STANDARD
END:VTIMEZONE
BEGIN:VEVENT
DTSTART;TZID=Europe/Stockholm:20201103T173000
DTEND;TZID=Europe/Stockholm:20201103T190000
DTSTAMP:20260420T101500
CREATED:20200727T135321Z
LAST-MODIFIED:20200908T132501Z
UID:46894-1604424600-1604430000@arkiv.gratisuppsala.se
SUMMARY:INSTÄLLT - Magnetstimulering - behandling mot depression | Infoteket
DESCRIPTION:INSTÄLLT – Magnetstimulering – behandling mot depression\nFöreläsning om repetitiv transkraniell magnetstimulering\n  \nHur fungerar repetitiv transkraniell magnetstimulering (rTMS)? Och hur kan det hjälpa vid depression? \nRobert Bodén\, överläkare och docent i psykiatri\, samtalar med Elsa Kjellander\, attitydambassadör i Hjärnkoll\, om att leva med svår depression\, samt upplevelser och erfarenhet av behandling med rTMS. \nAlla intresserade är varmt välkomna! \nDatum: Tisdag 3 november 2020\nTid: 17:30-19:00\nPlats: Tierps bibliotek\,  Grevegatan 19–21\, Tierp.\nÅlder: Ej angivet\nAnmälan: Via e-post infoteket@regionuppsala.se eller telefon 018-611 66 77. Ange namn och telefonnummer.\nArrangör: Infoteket om funktionshinder i samarrangemang med Hjärnkoll Uppsala län. \n  \n\nOm Infoteket\nInfoteket om funktionshinder är till för dig som har en funktionsnedsättning\, är anhörig eller arbetar med barn\, ungdomar eller vuxna med funktionsnedsättningar i skola eller annan verksamhet. \nPå Infoteket kan du läsa och låna aktuell litteratur\, filmer\, söka information på webben\, tala med experter och lyssna på föreläsningar. Vi har lästips och faktablad om olika diagnoser och funktionsnedsättningar samt ett visningstorg för kommunikativt och kognitivt stöd. \nEn verksamhet inom Region Uppsala \nInfoteket om funktionshinder är en verksamhet inom Centrum för funktionshinder\, ett samarbetsforum för verksamheter inom Region Uppsala. Där ingår: \n\nNära vård och hälsa: habilitering för barn och vuxna\, hjälpmedelscentralen för barn och ungdomar\, hörcentral\, syncentral\, tolkcentral och taltjänst.\nRehabiliteringsmedicin inom Akademiska sjukhuset.\nFolke Bernadotte regionhabilitering inom Akademiska barnsjukhuset.\nVerksamhetsområde psykiatri inom Akademiska sjukhuset\nPrimärvården\nUppsala universitet\n\nHitta till Infoteket\nMed buss \nStadsbuss linje 6 samt sjukresebuss till hållplats Kungsgärdets vårdcentral. \nTidtabeller för stadsbussar och regionbussar \nTidtabeller för sjukresebussar \nMed bil \nFärdbeskrivning med karta på Hitta.se \nBesöksparkering finns direkt utanför infoteket. Parkeringsautomat finns vid S:t Johannesgatan 28 A samt på gården vid Villavägen 2. P-avgift alla dagar kl 00-24. Handikapparkering finns. \nDet finns ett begränsat antal parkeringsplatser på området. Om du har möjlighet rekommenderas det att du använder annat färdmedel. \n  \n\nBesök gärna länkarna nedan (externa länkar öppnas i ett nytt fönster/flik).\nInfoteket | Kommande event inom Hälsa & Välmående | Kommande event inom Funktionsvariationer \nBild: pixabay.com \nDela evenemanget
URL:https://arkiv.gratisuppsala.se/event/magnetstimulering-behandling-mot-depression-infoteket-2/
LOCATION:Tierps bibliotek\, Grevegatan 19\, Tierp\, 815 23
CATEGORIES:60+,Ålderskategori,Anmälan,Anmälan / Kostnad,Eventkategori,För anhöriga,För föräldrar,Funktionsvariationer,Geografisk kategori,Gratis,Hälsa & Välmående,Identitet,Kunskap och Lärande,Psykisk hälsa,Tierps Kommun,Ungdom,Vuxen
ATTACH;FMTTYPE=image/jpeg:https://arkiv.gratisuppsala.se/wp-content/uploads/2020/07/brain-4961452_1280-e1595855876744.jpg
ORGANIZER;CN="Infoteket%20om%20funktionshinder":MAILTO:infoteket@lul.se
GEO:60.3458867;17.5147166
X-APPLE-STRUCTURED-LOCATION;VALUE=URI;X-ADDRESS=Tierps bibliotek Grevegatan 19 Tierp 815 23;X-APPLE-RADIUS=500;X-TITLE=Grevegatan 19:geo:17.5147166,60.3458867
END:VEVENT
END:VCALENDAR