BEGIN:VCALENDAR
VERSION:2.0
PRODID:-//Gratis Uppsala - ECPv5.2.1//NONSGML v1.0//EN
CALSCALE:GREGORIAN
METHOD:PUBLISH
X-WR-CALNAME:Gratis Uppsala
X-ORIGINAL-URL:https://arkiv.gratisuppsala.se
X-WR-CALDESC:Händelser för Gratis Uppsala
BEGIN:VTIMEZONE
TZID:Europe/Stockholm
BEGIN:DAYLIGHT
TZOFFSETFROM:+0100
TZOFFSETTO:+0200
TZNAME:CEST
DTSTART:20160327T010000
END:DAYLIGHT
BEGIN:STANDARD
TZOFFSETFROM:+0200
TZOFFSETTO:+0100
TZNAME:CET
DTSTART:20161030T010000
END:STANDARD
END:VTIMEZONE
BEGIN:VEVENT
DTSTART;TZID=Europe/Stockholm:20160423T160000
DTEND;TZID=Europe/Stockholm:20160420T180000
DTSTAMP:20260420T123445
CREATED:20160420T062656Z
LAST-MODIFIED:20160420T062656Z
UID:6800-1461427200-1461175200@arkiv.gratisuppsala.se
SUMMARY:Magnum Trio hos Katalin
DESCRIPTION:Lördagsjazzen 23 april: Magnum Trio hos Katalin\, i puben kl 15\, insläpp från 13. \nMagnus Peterson svänger med sin bas i jazzlegenden Slam Stewards anda tillsammans med Karl Sjölin på piano och Håkan Jansson vid trummorna. \nFri entré med frivillig orkesterslant. \nBild: pixabay.com. \nDela evenemanget
URL:https://arkiv.gratisuppsala.se/event/magnum-trio-hos-katalin/
LOCATION:Katalin\, Roslagsgatan 1\, Uppsala\, 753 27\, Sverige
CATEGORIES:Sång och Musik
ATTACH;FMTTYPE=image/jpeg:https://arkiv.gratisuppsala.se/wp-content/uploads/2016/04/kontrabas_trummor.jpg
ORGANIZER;CN="Katalin":MAILTO:info@katalin.com
END:VEVENT
END:VCALENDAR