BEGIN:VCALENDAR
VERSION:2.0
PRODID:-//Gratis Uppsala - ECPv5.2.1//NONSGML v1.0//EN
CALSCALE:GREGORIAN
METHOD:PUBLISH
X-WR-CALNAME:Gratis Uppsala
X-ORIGINAL-URL:https://arkiv.gratisuppsala.se
X-WR-CALDESC:Händelser för Gratis Uppsala
BEGIN:VTIMEZONE
TZID:Europe/Stockholm
BEGIN:DAYLIGHT
TZOFFSETFROM:+0100
TZOFFSETTO:+0200
TZNAME:CEST
DTSTART:20150329T010000
END:DAYLIGHT
BEGIN:STANDARD
TZOFFSETFROM:+0200
TZOFFSETTO:+0100
TZNAME:CET
DTSTART:20151025T010000
END:STANDARD
END:VTIMEZONE
BEGIN:VEVENT
DTSTART;TZID=Europe/Stockholm:20151102T170000
DTEND;TZID=Europe/Stockholm:20151102T180000
DTSTAMP:20260420T003137
CREATED:20151029T131039Z
LAST-MODIFIED:20151029T131159Z
UID:4371-1446483600-1446487200@arkiv.gratisuppsala.se
SUMMARY:Make IT fair
DESCRIPTION:Vem gör min mobiltelefon\, surfplatta\, dator m.m? \nVarifrån kommer råvarorna och hur är arbetsförhållandena? \nSofia Strinnholm från Svenska Kyrkans Unga informerar om detta samt om arbetet med klimatkampanjen inför FN:s toppklimatmöte COP21 i Paris i december. \nDela evenemanget
URL:https://arkiv.gratisuppsala.se/event/make-it-fair/
LOCATION:Café Genomfarten\, Drottninggatan 13\, Uppsala\, 753 10\, Sverige
CATEGORIES:Föreläsning och Kurs
ORGANIZER;CN="Caf%C3%A9%20Genomfarten":MAILTO:genomfarten@gmail.com
GEO:59.8562875;17.63361
X-APPLE-STRUCTURED-LOCATION;VALUE=URI;X-ADDRESS=Café Genomfarten Drottninggatan 13 Uppsala 753 10 Sverige;X-APPLE-RADIUS=500;X-TITLE=Drottninggatan 13:geo:17.63361,59.8562875
END:VEVENT
END:VCALENDAR