BEGIN:VCALENDAR
VERSION:2.0
PRODID:-//Gratis Uppsala - ECPv5.2.1//NONSGML v1.0//EN
CALSCALE:GREGORIAN
METHOD:PUBLISH
X-WR-CALNAME:Gratis Uppsala
X-ORIGINAL-URL:https://arkiv.gratisuppsala.se
X-WR-CALDESC:Händelser för Gratis Uppsala
BEGIN:VTIMEZONE
TZID:Europe/Stockholm
BEGIN:DAYLIGHT
TZOFFSETFROM:+0100
TZOFFSETTO:+0200
TZNAME:CEST
DTSTART:20180325T010000
END:DAYLIGHT
BEGIN:STANDARD
TZOFFSETFROM:+0200
TZOFFSETTO:+0100
TZNAME:CET
DTSTART:20181028T010000
END:STANDARD
END:VTIMEZONE
BEGIN:VEVENT
DTSTART;TZID=Europe/Stockholm:20181102T100000
DTEND;TZID=Europe/Stockholm:20181102T130000
DTSTAMP:20260421T101502
CREATED:20181102T203229Z
LAST-MODIFIED:20181102T211443Z
UID:32968-1541152800-1541163600@arkiv.gratisuppsala.se
SUMMARY:Måla en ljuslykta på Uppsala Stadsbibliotek
DESCRIPTION:Måla en ljuslykta på Uppsala Stadsbibliotek\nMåla en ljuslykta i samband med Allt ljus på Uppsala. Allkonstnär Rebecca Liljefors hjälper dig. Från 5 år. \nLjuslyktorna kommer att ställas ut på avslutningsdagen av Allt ljus på Uppsala 18 november. \nIngen föranmälan. Drop in! \nTillfälle 1  \nDatum: Fredagen den 2 november 2018\nTid: 10.00–13.00\nPlats: Uppsala Stadsbibliotek\, Skattkammaren \nTillfälle 2 \nDatum: Tisdagen den 6 november 2018\nTid: 15.00–18.00\nPlats: Uppsala Stadsbibliotek\, Skattkammaren \n  \n\nBesök gärna länkarna nedan (externa länkar öppnas i nytt fönster/flik). \nUppsala Stadsbibliotek | Fler event på Höstlovet 2018 | Kommande event inom Allt ljus på Uppsala 2018 \nFoto: Pascal Müller via Unsplash \nDela evenemanget
URL:https://arkiv.gratisuppsala.se/event/mala-ljuslykta-stadsbiblioteket-ht18/2018-11-02/
LOCATION:Uppsala Stadsbiblioteket\, Svartbäcksgatan 17\, Uppsala\, Uppsala\, 753 75 Uppsala\, Sverige
CATEGORIES:Allt ljus på Uppsala,Höstlov,Litteratur och Poesi,Pyssel
ATTACH;FMTTYPE=image/jpeg:https://arkiv.gratisuppsala.se/wp-content/uploads/2018/10/pascal-muller-151589-unsplash-e1541190417291.jpg
GEO:59.8606206;17.6353278
X-APPLE-STRUCTURED-LOCATION;VALUE=URI;X-ADDRESS=Uppsala Stadsbiblioteket Svartbäcksgatan 17 Uppsala Uppsala 753 75 Uppsala Sverige;X-APPLE-RADIUS=500;X-TITLE=Svartbäcksgatan 17:geo:17.6353278,59.8606206
END:VEVENT
END:VCALENDAR