BEGIN:VCALENDAR
VERSION:2.0
PRODID:-//Gratis Uppsala - ECPv5.2.1//NONSGML v1.0//EN
CALSCALE:GREGORIAN
METHOD:PUBLISH
X-WR-CALNAME:Gratis Uppsala
X-ORIGINAL-URL:https://arkiv.gratisuppsala.se
X-WR-CALDESC:Händelser för Gratis Uppsala
BEGIN:VTIMEZONE
TZID:Europe/Stockholm
BEGIN:DAYLIGHT
TZOFFSETFROM:+0100
TZOFFSETTO:+0200
TZNAME:CEST
DTSTART:20170326T010000
END:DAYLIGHT
BEGIN:STANDARD
TZOFFSETFROM:+0200
TZOFFSETTO:+0100
TZNAME:CET
DTSTART:20171029T010000
END:STANDARD
END:VTIMEZONE
BEGIN:VEVENT
DTSTART;TZID=Europe/Stockholm:20170120T133000
DTEND;TZID=Europe/Stockholm:20170120T170000
DTSTAMP:20260421T033846
CREATED:20170109T091759Z
LAST-MODIFIED:20170113T101225Z
UID:10416-1484919000-1484931600@arkiv.gratisuppsala.se
SUMMARY:Mäns heder - att vara både offer och förövare
DESCRIPTION:Föredrag om hedersrelaterat förtryck och våld ur pojkars och mäns perspektiv\nMöt de främsta inom området: docent Astrid Schlytter och doktorand David Rexvid\, vilka är författarna till  boken Mäns Heder – att vara både offer och förövare som har som utgångspunkt i pojkars och unga mäns erfarenheter. \nBoken Mäns heder är skriven med fokus på utbildningar och professionella inom den sociala sektorn\, skolan och rättsväsendet. \nFri entré \nNär: Fredagen 20 januari kl. 13.30-17.00 \nVar: Stadsbiblioteket\, Mallas sal \nSamarrangemang med TRIS – Tjejers rätt i samhället \n  \nBild från pixabay.com \nDela evenemanget
URL:https://arkiv.gratisuppsala.se/event/mans-heder-att-vara-bade-offer-och-forovare/
LOCATION:Stadsbiblioteket\, Svartbäcksgatan 17
CATEGORIES:Föreläsning och Kurs,Kunskap och Lärande,Litteratur och Poesi,Samhälle
ATTACH;FMTTYPE=image/jpeg:https://arkiv.gratisuppsala.se/wp-content/uploads/2017/01/book-539154_960_720-e1533032034691.jpg
GEO:59.8606206;17.6353278
X-APPLE-STRUCTURED-LOCATION;VALUE=URI;X-ADDRESS=Stadsbiblioteket Svartbäcksgatan 17;X-APPLE-RADIUS=500;X-TITLE=Svartbäcksgatan 17:geo:17.6353278,59.8606206
END:VEVENT
END:VCALENDAR