BEGIN:VCALENDAR
VERSION:2.0
PRODID:-//Gratis Uppsala - ECPv5.2.1//NONSGML v1.0//EN
CALSCALE:GREGORIAN
METHOD:PUBLISH
X-WR-CALNAME:Gratis Uppsala
X-ORIGINAL-URL:https://arkiv.gratisuppsala.se
X-WR-CALDESC:Händelser för Gratis Uppsala
BEGIN:VTIMEZONE
TZID:Europe/Stockholm
BEGIN:DAYLIGHT
TZOFFSETFROM:+0100
TZOFFSETTO:+0200
TZNAME:CEST
DTSTART:20160327T010000
END:DAYLIGHT
BEGIN:STANDARD
TZOFFSETFROM:+0200
TZOFFSETTO:+0100
TZNAME:CET
DTSTART:20161030T010000
END:STANDARD
END:VTIMEZONE
BEGIN:VEVENT
DTSTART;TZID=Europe/Stockholm:20160625T150000
DTEND;TZID=Europe/Stockholm:20160622T180000
DTSTAMP:20260420T095451
CREATED:20160622T092416Z
LAST-MODIFIED:20160622T092416Z
UID:7593-1466866800-1466618400@arkiv.gratisuppsala.se
SUMMARY:Marielunds station midsommardagen
DESCRIPTION:Marielunds station midsommardagen\, en Familjefest med dans kring midsommarstången.\nFestligheterna drar igång kl 14\, när Lennakatten lämnat av sina passagerare. \nFör den som vill göra mer än bara dansa blir det fler roliga aktiviteter som fiskdamm och ponnyridning. \nFoto: Marielunds Vänner. \nDela evenemanget
URL:https://arkiv.gratisuppsala.se/event/marielunds-station-midsommardagen/
LOCATION:Marielunds station (Lennakatten)
CATEGORIES:Midsommar
ATTACH;FMTTYPE=image/png:https://arkiv.gratisuppsala.se/wp-content/uploads/2016/06/midsommar-i-marielund1.png
ORGANIZER;CN="Marielunds%20V%C3%A4nner":MAILTO:marielund2008@hotmail.com
END:VEVENT
END:VCALENDAR