BEGIN:VCALENDAR
VERSION:2.0
PRODID:-//Gratis Uppsala - ECPv5.2.1//NONSGML v1.0//EN
CALSCALE:GREGORIAN
METHOD:PUBLISH
X-WR-CALNAME:Gratis Uppsala
X-ORIGINAL-URL:https://arkiv.gratisuppsala.se
X-WR-CALDESC:Händelser för Gratis Uppsala
BEGIN:VTIMEZONE
TZID:Europe/Stockholm
BEGIN:DAYLIGHT
TZOFFSETFROM:+0100
TZOFFSETTO:+0200
TZNAME:CEST
DTSTART:20160327T010000
END:DAYLIGHT
BEGIN:STANDARD
TZOFFSETFROM:+0200
TZOFFSETTO:+0100
TZNAME:CET
DTSTART:20161030T010000
END:STANDARD
END:VTIMEZONE
BEGIN:VEVENT
DTSTART;TZID=Europe/Stockholm:20160420T170000
DTEND;TZID=Europe/Stockholm:20160420T200000
DTSTAMP:20260421T072620
CREATED:20160309T103800Z
LAST-MODIFIED:20160309T103800Z
UID:6423-1461171600-1461182400@arkiv.gratisuppsala.se
SUMMARY:Mässa - Vi talar om kognition
DESCRIPTION:Möt verksamheter som erbjuder stöd/ insatser till personer med kognitiva svårigheter. Det kan handla om svårigheter att organisera\, planera\, ta initiativ och få struktur för att hantera vardagen. \nMässan är öppen för barn och vuxna med egna svårigheter\, anhöriga\, personal eller andra intresserade. \nDela evenemanget
URL:https://arkiv.gratisuppsala.se/event/massa-vi-talar-om-kognition/
LOCATION:Infoteket om funktionshinder\, S:t Johannesgatan 28 D\, Uppsala\, 752 33\, Sverige
CATEGORIES:Utställning
ORGANIZER;CN="Infoteket%20om%20funktionshinder":MAILTO:infoteket@lul.se
GEO:59.8553013;17.6213622
X-APPLE-STRUCTURED-LOCATION;VALUE=URI;X-ADDRESS=Infoteket om funktionshinder S:t Johannesgatan 28 D Uppsala 752 33 Sverige;X-APPLE-RADIUS=500;X-TITLE=S:t Johannesgatan 28 D:geo:17.6213622,59.8553013
END:VEVENT
END:VCALENDAR