BEGIN:VCALENDAR
VERSION:2.0
PRODID:-//Gratis Uppsala - ECPv5.2.1//NONSGML v1.0//EN
CALSCALE:GREGORIAN
METHOD:PUBLISH
X-WR-CALNAME:Gratis Uppsala
X-ORIGINAL-URL:https://arkiv.gratisuppsala.se
X-WR-CALDESC:Händelser för Gratis Uppsala
BEGIN:VTIMEZONE
TZID:Europe/Stockholm
BEGIN:DAYLIGHT
TZOFFSETFROM:+0100
TZOFFSETTO:+0200
TZNAME:CEST
DTSTART:20170326T010000
END:DAYLIGHT
BEGIN:STANDARD
TZOFFSETFROM:+0200
TZOFFSETTO:+0100
TZNAME:CET
DTSTART:20171029T010000
END:STANDARD
END:VTIMEZONE
BEGIN:VEVENT
DTSTART;TZID=Europe/Stockholm:20170829T190000
DTEND;TZID=Europe/Stockholm:20170829T200000
DTSTAMP:20260420T160303
CREATED:20170829T112604Z
LAST-MODIFIED:20170829T112604Z
UID:17504-1504033200-1504036800@arkiv.gratisuppsala.se
SUMMARY:Meditation och inre ro - Gratis evenemang på Stadsbiblioteket
DESCRIPTION:Gratis föreläsning på Stadsbiblioteket- Meditation och inre ro \nDet är så mycket vi skall hinna med i våra aktiva liv. Inte så konstigt att så många av oss upplever stress\, trötthet och oro. Genom meditation kan vi utveckla ett starkt och rofyllt sinne\, som hjälper oss att hantera våra dagliga utmaningar på ett positivt sätt. \nPå denna introduktionskväll kommer vi att lära oss enkla meditationsövningar som vi kan använda i vår vardag och vi kommer att gå igenom några av de praktiska fördelarna med meditation såsom ökad energi\, närvaro och mentalt och fysiskt välmående. \nDen här gratis introkvällen fungerar som en perfekt förberedelse till våra veckokurser som börjar måndag 4:e och tisdag 5:e september. \nLäraren:\nKelsang Jangdom har utövat buddhism och meditation sedan 2003 och blev ordinerad som buddhistmunk 2010. Med glädje och lätthet förmedlar han från hjärtat de kraftfulla fördelarna av Buddhism i sina kloka och inspirerande undervisningar. \nFRI ENTRÉ! \nFöranmälan nödvändigt.\nhttp://mediteraistockholm.se/kursanma… \nDela evenemanget
URL:https://arkiv.gratisuppsala.se/event/meditation-och-inre-ro-gratis-evenemang-pa-stadsbiblioteket/
LOCATION:Stadsbiblioteket\, Svartbäcksgatan 17\, Uppsala\, 75320\, Sverige
CATEGORIES:Höstlov,Litteratur och Poesi
ATTACH;FMTTYPE=image/jpeg:https://arkiv.gratisuppsala.se/wp-content/uploads/2017/04/meditate-1851165_640.jpg
GEO:59.8606206;17.6353278
X-APPLE-STRUCTURED-LOCATION;VALUE=URI;X-ADDRESS=Stadsbiblioteket Svartbäcksgatan 17 Uppsala 75320 Sverige;X-APPLE-RADIUS=500;X-TITLE=Svartbäcksgatan 17:geo:17.6353278,59.8606206
END:VEVENT
END:VCALENDAR