BEGIN:VCALENDAR
VERSION:2.0
PRODID:-//Gratis Uppsala - ECPv5.2.1//NONSGML v1.0//EN
CALSCALE:GREGORIAN
METHOD:PUBLISH
X-WR-CALNAME:Gratis Uppsala
X-ORIGINAL-URL:https://arkiv.gratisuppsala.se
X-WR-CALDESC:Händelser för Gratis Uppsala
BEGIN:VTIMEZONE
TZID:Europe/Stockholm
BEGIN:DAYLIGHT
TZOFFSETFROM:+0100
TZOFFSETTO:+0200
TZNAME:CEST
DTSTART:20160327T010000
END:DAYLIGHT
BEGIN:STANDARD
TZOFFSETFROM:+0200
TZOFFSETTO:+0100
TZNAME:CET
DTSTART:20161030T010000
END:STANDARD
END:VTIMEZONE
BEGIN:VEVENT
DTSTART;TZID=Europe/Stockholm:20160118T171500
DTEND;TZID=Europe/Stockholm:20160118T184500
DTSTAMP:20260419T201246
CREATED:20160112T100234Z
LAST-MODIFIED:20160112T100234Z
UID:5717-1453137300-1453142700@arkiv.gratisuppsala.se
SUMMARY:Medspråk - öva svenska med oss!
DESCRIPTION:Grundkunskaper i svenska krävs. \nMedspråk är gratis. \nDo you want to practice Swedish?\nWe meet in small groups of people that want to understand and speak better Swedish. We talk about everyday events and topics. \nBasic know-ledge of Swedish is required. \nDela evenemanget
URL:https://arkiv.gratisuppsala.se/event/medsprak-ova-svenska-med-oss/
LOCATION:Gottsundabiblioteket\, Valthornsvägen 11\, Uppsala\, 756 50 \, Sverige
CATEGORIES:Föreläsning och Kurs
ORGANIZER;CN="Bibliotek%20Uppsala":MAILTO:kundtjanst@bibliotekuppsala.se
GEO:59.8093409;17.6295555
X-APPLE-STRUCTURED-LOCATION;VALUE=URI;X-ADDRESS=Gottsundabiblioteket Valthornsvägen 11 Uppsala 756 50  Sverige;X-APPLE-RADIUS=500;X-TITLE=Valthornsvägen 11:geo:17.6295555,59.8093409
END:VEVENT
END:VCALENDAR