BEGIN:VCALENDAR
VERSION:2.0
PRODID:-//Gratis Uppsala - ECPv5.2.1//NONSGML v1.0//EN
CALSCALE:GREGORIAN
METHOD:PUBLISH
X-WR-CALNAME:Gratis Uppsala
X-ORIGINAL-URL:https://arkiv.gratisuppsala.se
X-WR-CALDESC:Händelser för Gratis Uppsala
BEGIN:VTIMEZONE
TZID:Europe/Stockholm
BEGIN:DAYLIGHT
TZOFFSETFROM:+0100
TZOFFSETTO:+0200
TZNAME:CEST
DTSTART:20150329T010000
END:DAYLIGHT
BEGIN:STANDARD
TZOFFSETFROM:+0200
TZOFFSETTO:+0100
TZNAME:CET
DTSTART:20151025T010000
END:STANDARD
END:VTIMEZONE
BEGIN:VEVENT
DTSTART;TZID=Europe/Stockholm:20151224T140000
DTEND;TZID=Europe/Stockholm:20151226T220000
DTSTAMP:20260421T113621
CREATED:20151221T100053Z
LAST-MODIFIED:20151221T100053Z
UID:5296-1450965600-1451167200@arkiv.gratisuppsala.se
SUMMARY:Megakul jul Gottsunda
DESCRIPTION:Mötesplats Treklangen och föreningen La Softa anordnar Megakul jul för hela familjen i Gottsunda\, Julafton\, Juldagen och Annandagen kl 14-22. \nDet blir pyssel\, dans\, film\, biljard\, lekar\, med mera\, med mera. \nBild: pixabay.com. \nDela evenemanget
URL:https://arkiv.gratisuppsala.se/event/megakul-jul-gottsunda/
LOCATION:Mötesplats Treklangen\, Valthornsvägen 19 A\, Uppsala\, 75650\, Sverige
CATEGORIES:Teater och Bio
ATTACH;FMTTYPE=image/jpg:https://arkiv.gratisuppsala.se/wp-content/uploads/2015/12/dans-1.jpg
ORGANIZER;CN="Uppsala%20kommun":MAILTO:uppsala.kommun@uppsala.se
GEO:59.8078992;17.6305658
X-APPLE-STRUCTURED-LOCATION;VALUE=URI;X-ADDRESS=Mötesplats Treklangen Valthornsvägen 19 A Uppsala 75650 Sverige;X-APPLE-RADIUS=500;X-TITLE=Valthornsvägen 19 A:geo:17.6305658,59.8078992
END:VEVENT
END:VCALENDAR