BEGIN:VCALENDAR
VERSION:2.0
PRODID:-//Gratis Uppsala - ECPv5.2.1//NONSGML v1.0//EN
CALSCALE:GREGORIAN
METHOD:PUBLISH
X-WR-CALNAME:Gratis Uppsala
X-ORIGINAL-URL:https://arkiv.gratisuppsala.se
X-WR-CALDESC:Händelser för Gratis Uppsala
BEGIN:VTIMEZONE
TZID:Europe/Stockholm
BEGIN:DAYLIGHT
TZOFFSETFROM:+0100
TZOFFSETTO:+0200
TZNAME:CEST
DTSTART:20160327T010000
END:DAYLIGHT
BEGIN:STANDARD
TZOFFSETFROM:+0200
TZOFFSETTO:+0100
TZNAME:CET
DTSTART:20161030T010000
END:STANDARD
END:VTIMEZONE
BEGIN:VEVENT
DTSTART;TZID=Europe/Stockholm:20160222T103000
DTEND;TZID=Europe/Stockholm:20160224T143000
DTSTAMP:20260422T140913
CREATED:20160210T105340Z
LAST-MODIFIED:20160210T105340Z
UID:6129-1456137000-1456324200@arkiv.gratisuppsala.se
SUMMARY:Mellan Himmel och Jord-Vad finns i en Kyrka?
DESCRIPTION:Sportlovsvisning om föremål du kan hitta i de flesta kyrkor och historien bakom just dem som finns i Uppsala domkyrka. \nHur byggdes Uppsala Domkyrka? Hur många Tegelstenar kan det ha gått åt?? \nVad är det höga svarta tornen gjorda av? Och var finns i museet som ligger i ena Tornet? \nFör barn 6-12 år och medföljande. Gratis. \nDela evenemanget
URL:https://arkiv.gratisuppsala.se/event/mellan-himmel-o-jord-vad-finns-i-en-kyrka/
LOCATION:Uppsala domkyrka\, Domkyrkoplan 5\, Uppsala\, 75310\, Sverige
CATEGORIES:Samhälle
ATTACH;FMTTYPE=image/jpeg:https://arkiv.gratisuppsala.se/wp-content/uploads/2016/02/domkyrkan.jpg
GEO:59.8584471;17.6332992
X-APPLE-STRUCTURED-LOCATION;VALUE=URI;X-ADDRESS=Uppsala domkyrka Domkyrkoplan 5 Uppsala 75310 Sverige;X-APPLE-RADIUS=500;X-TITLE=Domkyrkoplan 5:geo:17.6332992,59.8584471
END:VEVENT
END:VCALENDAR