BEGIN:VCALENDAR
VERSION:2.0
PRODID:-//Gratis Uppsala - ECPv5.2.1//NONSGML v1.0//EN
CALSCALE:GREGORIAN
METHOD:PUBLISH
X-WR-CALNAME:Gratis Uppsala
X-ORIGINAL-URL:https://arkiv.gratisuppsala.se
X-WR-CALDESC:Händelser för Gratis Uppsala
BEGIN:VTIMEZONE
TZID:Europe/Stockholm
BEGIN:DAYLIGHT
TZOFFSETFROM:+0100
TZOFFSETTO:+0200
TZNAME:CEST
DTSTART:20170326T010000
END:DAYLIGHT
BEGIN:STANDARD
TZOFFSETFROM:+0200
TZOFFSETTO:+0100
TZNAME:CET
DTSTART:20171029T010000
END:STANDARD
END:VTIMEZONE
BEGIN:VEVENT
DTSTART;TZID=Europe/Stockholm:20171104T120000
DTEND;TZID=Europe/Stockholm:20171104T160000
DTSTAMP:20260420T054543
CREATED:20171101T105228Z
LAST-MODIFIED:20171101T105423Z
UID:19603-1509796800-1509811200@arkiv.gratisuppsala.se
SUMMARY:"Mera vatten!" - Birgitta Attling och Bo G Svensson
DESCRIPTION:Utställning på Galleri Upsala\nUtställningen Mera vatten! med akvareller av Bo G Svensson och Birgitta Attling pågår på Galleri Upsala från lördag 4 november till torsdag 9 november. \nVernissage lördag 4 november kl 12-16. \nÖppettider Galleri Upsala: söndag – torsdag kl 12-18 \nBild från pixabay.com \nDela evenemanget
URL:https://arkiv.gratisuppsala.se/event/mera-vatten-birgitta-attling-och-bo-g-svensson/
LOCATION:Galleri Upsala 1810\, Svartbäcksgatan 21\, Uppsala\, 75332\, Sverige
CATEGORIES:60+,Konst, Fotografi och Design,Utställning,Vuxen
ATTACH;FMTTYPE=image/jpeg:https://arkiv.gratisuppsala.se/wp-content/uploads/2017/10/water-1882395_960_720-e1525680900952.jpg
GEO:59.8611308;17.6344008
X-APPLE-STRUCTURED-LOCATION;VALUE=URI;X-ADDRESS=Galleri Upsala 1810 Svartbäcksgatan 21 Uppsala 75332 Sverige;X-APPLE-RADIUS=500;X-TITLE=Svartbäcksgatan 21:geo:17.6344008,59.8611308
END:VEVENT
END:VCALENDAR